BEGIN:VCALENDAR
VERSION:2.0
PRODID:-//St Andrews Christian School - ECPv6.15.18//NONSGML v1.0//EN
CALSCALE:GREGORIAN
METHOD:PUBLISH
X-ORIGINAL-URL:https://standrewscs.nsw.edu.au
X-WR-CALDESC:Events for St Andrews Christian School
REFRESH-INTERVAL;VALUE=DURATION:PT1H
X-Robots-Tag:noindex
X-PUBLISHED-TTL:PT1H
BEGIN:VTIMEZONE
TZID:Australia/Sydney
BEGIN:STANDARD
TZOFFSETFROM:+1100
TZOFFSETTO:+1000
TZNAME:AEST
DTSTART:20240406T160000
END:STANDARD
BEGIN:DAYLIGHT
TZOFFSETFROM:+1000
TZOFFSETTO:+1100
TZNAME:AEDT
DTSTART:20241005T160000
END:DAYLIGHT
BEGIN:STANDARD
TZOFFSETFROM:+1100
TZOFFSETTO:+1000
TZNAME:AEST
DTSTART:20250405T160000
END:STANDARD
BEGIN:DAYLIGHT
TZOFFSETFROM:+1000
TZOFFSETTO:+1100
TZNAME:AEDT
DTSTART:20251004T160000
END:DAYLIGHT
BEGIN:STANDARD
TZOFFSETFROM:+1100
TZOFFSETTO:+1000
TZNAME:AEST
DTSTART:20260404T160000
END:STANDARD
BEGIN:DAYLIGHT
TZOFFSETFROM:+1000
TZOFFSETTO:+1100
TZNAME:AEDT
DTSTART:20261003T160000
END:DAYLIGHT
END:VTIMEZONE
BEGIN:VEVENT
DTSTART;TZID=Australia/Sydney:20250401T150000
DTEND;TZID=Australia/Sydney:20250401T170000
DTSTAMP:20260420T182543
CREATED:20250326T032510Z
LAST-MODIFIED:20250326T032510Z
UID:3080-1743519600-1743526800@standrewscs.nsw.edu.au
SUMMARY:Parent/Teacher Interviews
DESCRIPTION:
URL:https://standrewscs.nsw.edu.au/event/parent-teacher-interviews-4/
END:VEVENT
BEGIN:VEVENT
DTSTART;TZID=Australia/Sydney:20250402T150000
DTEND;TZID=Australia/Sydney:20250402T170000
DTSTAMP:20260420T182543
CREATED:20250326T032545Z
LAST-MODIFIED:20250326T032545Z
UID:3082-1743606000-1743613200@standrewscs.nsw.edu.au
SUMMARY:Parent/Teacher Interviews
DESCRIPTION:
URL:https://standrewscs.nsw.edu.au/event/parent-teacher-interviews-5/
END:VEVENT
BEGIN:VEVENT
DTSTART;VALUE=DATE:20250411
DTEND;VALUE=DATE:20250412
DTSTAMP:20260420T182543
CREATED:20241213T010107Z
LAST-MODIFIED:20241213T010107Z
UID:2943-1744329600-1744415999@standrewscs.nsw.edu.au
SUMMARY:Last Day Term 1
DESCRIPTION:
URL:https://standrewscs.nsw.edu.au/event/last-day-term-1-3/
END:VEVENT
BEGIN:VEVENT
DTSTART;TZID=Australia/Sydney:20250411T110000
DTEND;TZID=Australia/Sydney:20250411T150000
DTSTAMP:20260420T182543
CREATED:20250326T032713Z
LAST-MODIFIED:20250326T032713Z
UID:3084-1744369200-1744383600@standrewscs.nsw.edu.au
SUMMARY:Cross Country
DESCRIPTION:
URL:https://standrewscs.nsw.edu.au/event/cross-country-2/
END:VEVENT
BEGIN:VEVENT
DTSTART;TZID=Australia/Sydney:20250411T120000
DTEND;TZID=Australia/Sydney:20250411T150000
DTSTAMP:20260420T182543
CREATED:20250326T032843Z
LAST-MODIFIED:20250326T032843Z
UID:3086-1744372800-1744383600@standrewscs.nsw.edu.au
SUMMARY:World's Greatest Shave
DESCRIPTION:
URL:https://standrewscs.nsw.edu.au/event/worlds-greatest-shave/
END:VEVENT
BEGIN:VEVENT
DTSTART;VALUE=DATE:20250412
DTEND;VALUE=DATE:20250428
DTSTAMP:20260420T182543
CREATED:20241213T005947Z
LAST-MODIFIED:20241213T010019Z
UID:2940-1744416000-1745798399@standrewscs.nsw.edu.au
SUMMARY:School Holidays
DESCRIPTION:
URL:https://standrewscs.nsw.edu.au/event/last-day-term-1-2/
END:VEVENT
BEGIN:VEVENT
DTSTART;VALUE=DATE:20250428
DTEND;VALUE=DATE:20250429
DTSTAMP:20260420T182543
CREATED:20241213T010143Z
LAST-MODIFIED:20241213T010143Z
UID:2945-1745798400-1745884799@standrewscs.nsw.edu.au
SUMMARY:First Day Term 2
DESCRIPTION:
URL:https://standrewscs.nsw.edu.au/event/first-day-term-2-2/
END:VEVENT
BEGIN:VEVENT
DTSTART;TZID=Australia/Sydney:20250428T103000
DTEND;TZID=Australia/Sydney:20250428T113000
DTSTAMP:20260420T182543
CREATED:20250326T033157Z
LAST-MODIFIED:20250326T033157Z
UID:3088-1745836200-1745839800@standrewscs.nsw.edu.au
SUMMARY:ANZAC Assembly
DESCRIPTION:
URL:https://standrewscs.nsw.edu.au/event/anzac-assembly/
END:VEVENT
BEGIN:VEVENT
DTSTART;VALUE=DATE:20250430
DTEND;VALUE=DATE:20250501
DTSTAMP:20260420T182543
CREATED:20241213T010210Z
LAST-MODIFIED:20241213T010210Z
UID:2947-1745971200-1746057599@standrewscs.nsw.edu.au
SUMMARY:Year 7 & 10 Vaccinations
DESCRIPTION:
URL:https://standrewscs.nsw.edu.au/event/year-7-10-vaccinations/
END:VEVENT
END:VCALENDAR