BEGIN:VCALENDAR
VERSION:2.0
PRODID:-//St Andrews Christian School - ECPv6.15.18//NONSGML v1.0//EN
CALSCALE:GREGORIAN
METHOD:PUBLISH
X-WR-CALNAME:St Andrews Christian School
X-ORIGINAL-URL:https://standrewscs.nsw.edu.au
X-WR-CALDESC:Events for St Andrews Christian School
REFRESH-INTERVAL;VALUE=DURATION:PT1H
X-Robots-Tag:noindex
X-PUBLISHED-TTL:PT1H
BEGIN:VTIMEZONE
TZID:UTC
BEGIN:STANDARD
TZOFFSETFROM:+0000
TZOFFSETTO:+0000
TZNAME:UTC
DTSTART:20210101T000000
END:STANDARD
END:VTIMEZONE
BEGIN:VEVENT
DTSTART;TZID=UTC:20220804T080000
DTEND;TZID=UTC:20220804T170000
DTSTAMP:20260421T073346
CREATED:20220118T153123Z
LAST-MODIFIED:20220118T153123Z
UID:1464-1659600000-1659632400@standrewscs.nsw.edu.au
SUMMARY:School Photos
DESCRIPTION:
URL:https://standrewscs.nsw.edu.au/event/school-photos-2/
END:VEVENT
BEGIN:VEVENT
DTSTART;TZID=UTC:20220803T093000
DTEND;TZID=UTC:20220803T111500
DTSTAMP:20260421T073346
CREATED:20220704T123205Z
LAST-MODIFIED:20220704T123205Z
UID:1559-1659519000-1659525300@standrewscs.nsw.edu.au
SUMMARY:Scholastic Book Parade (Prep and Primary)
DESCRIPTION:
URL:https://standrewscs.nsw.edu.au/event/scholastic-book-parade-prep-and-primary/
END:VEVENT
BEGIN:VEVENT
DTSTART;TZID=UTC:20220802T180000
DTEND;TZID=UTC:20220802T193000
DTSTAMP:20260421T073346
CREATED:20220704T122957Z
LAST-MODIFIED:20220704T123411Z
UID:1557-1659463200-1659468600@standrewscs.nsw.edu.au
SUMMARY:Year 11 2023 Information Night
DESCRIPTION:
URL:https://standrewscs.nsw.edu.au/event/year-11-2023-information-night/
END:VEVENT
BEGIN:VEVENT
DTSTART;TZID=UTC:20220802T080000
DTEND;TZID=UTC:20220802T170000
DTSTAMP:20260421T073346
CREATED:20220704T123936Z
LAST-MODIFIED:20220704T123936Z
UID:1566-1659427200-1659459600@standrewscs.nsw.edu.au
SUMMARY:Beeswax Wrapper Workshop - Primary
DESCRIPTION:
URL:https://standrewscs.nsw.edu.au/event/beeswax-wrapper-workshop-primary/
END:VEVENT
BEGIN:VEVENT
DTSTART;TZID=UTC:20220801T080000
DTEND;TZID=UTC:20220801T170000
DTSTAMP:20260421T073346
CREATED:20220704T123645Z
LAST-MODIFIED:20220704T123645Z
UID:1561-1659340800-1659373200@standrewscs.nsw.edu.au
SUMMARY:Lunch Making Workshop - Primary
DESCRIPTION:
URL:https://standrewscs.nsw.edu.au/event/lunch-making-workshop-primary/
END:VEVENT
BEGIN:VEVENT
DTSTART;TZID=UTC:20220729T080000
DTEND;TZID=UTC:20220729T170000
DTSTAMP:20260421T073346
CREATED:20220704T122825Z
LAST-MODIFIED:20220704T122825Z
UID:1555-1659081600-1659114000@standrewscs.nsw.edu.au
SUMMARY:Colin Buchanan Concert - Years 3-6 at Nambucca Christian School
DESCRIPTION:
URL:https://standrewscs.nsw.edu.au/event/colin-buchanan-concert-years-3-6-at-nambucca-christian-school/
END:VEVENT
BEGIN:VEVENT
DTSTART;TZID=UTC:20220727T180000
DTEND;TZID=UTC:20220727T193000
DTSTAMP:20260421T073346
CREATED:20220704T122659Z
LAST-MODIFIED:20220704T123037Z
UID:1551-1658944800-1658950200@standrewscs.nsw.edu.au
SUMMARY:Year 9 2023 Information Night
DESCRIPTION:
URL:https://standrewscs.nsw.edu.au/event/year-9-2023-information-night/
END:VEVENT
BEGIN:VEVENT
DTSTART;TZID=UTC:20220727T080000
DTEND;TZID=UTC:20220727T170000
DTSTAMP:20260421T073346
CREATED:20220704T122732Z
LAST-MODIFIED:20220704T122732Z
UID:1553-1658908800-1658941200@standrewscs.nsw.edu.au
SUMMARY:Zone Athletics Carnival - Coffs Harbour
DESCRIPTION:
URL:https://standrewscs.nsw.edu.au/event/zone-athletics-carnival-coffs-harbour-2/
END:VEVENT
BEGIN:VEVENT
DTSTART;TZID=UTC:20220725T080000
DTEND;TZID=UTC:20220725T170000
DTSTAMP:20260421T073346
CREATED:20220704T122615Z
LAST-MODIFIED:20220704T122615Z
UID:1549-1658736000-1658768400@standrewscs.nsw.edu.au
SUMMARY:First Day of Term 3
DESCRIPTION:
URL:https://standrewscs.nsw.edu.au/event/first-day-of-term-3-3/
END:VEVENT
BEGIN:VEVENT
DTSTART;TZID=UTC:20220704T080000
DTEND;TZID=UTC:20220704T170000
DTSTAMP:20260421T073346
CREATED:20220704T124939Z
LAST-MODIFIED:20220704T124939Z
UID:1582-1656921600-1656954000@standrewscs.nsw.edu.au
SUMMARY:First Day of Term 4
DESCRIPTION:
URL:https://standrewscs.nsw.edu.au/event/first-day-of-term-4-4/
END:VEVENT
BEGIN:VEVENT
DTSTART;TZID=UTC:20220702T080000
DTEND;TZID=UTC:20220724T170000
DTSTAMP:20260421T073346
CREATED:20220118T153040Z
LAST-MODIFIED:20220118T153040Z
UID:1462-1656748800-1658682000@standrewscs.nsw.edu.au
SUMMARY:School Holidays
DESCRIPTION:
URL:https://standrewscs.nsw.edu.au/event/school-holidays-12/
END:VEVENT
BEGIN:VEVENT
DTSTART;TZID=UTC:20220617T080000
DTEND;TZID=UTC:20220617T170000
DTSTAMP:20260421T073346
CREATED:20220413T134942Z
LAST-MODIFIED:20220525T184813Z
UID:1530-1655452800-1655485200@standrewscs.nsw.edu.au
SUMMARY:School Athletics Carnival
DESCRIPTION:
URL:https://standrewscs.nsw.edu.au/event/school-athletics-carnival-2/
END:VEVENT
BEGIN:VEVENT
DTSTART;TZID=UTC:20220615T080000
DTEND;TZID=UTC:20220615T170000
DTSTAMP:20260421T073346
CREATED:20220118T152914Z
LAST-MODIFIED:20220118T152914Z
UID:1460-1655280000-1655312400@standrewscs.nsw.edu.au
SUMMARY:Year 10 Vaccinations
DESCRIPTION:
URL:https://standrewscs.nsw.edu.au/event/year-10-vaccinations-2/
END:VEVENT
BEGIN:VEVENT
DTSTART;TZID=UTC:20220606T080000
DTEND;TZID=UTC:20220615T170000
DTSTAMP:20260421T073346
CREATED:20220413T135134Z
LAST-MODIFIED:20220413T135134Z
UID:1532-1654502400-1655312400@standrewscs.nsw.edu.au
SUMMARY:Year 7-10 Half Yearly Exams
DESCRIPTION:
URL:https://standrewscs.nsw.edu.au/event/year-7-10-half-yearly-exams-2/
END:VEVENT
BEGIN:VEVENT
DTSTART;TZID=UTC:20220531T150000
DTEND;TZID=UTC:20220601T180000
DTSTAMP:20260421T073346
CREATED:20220118T151918Z
LAST-MODIFIED:20220413T133222Z
UID:1454-1654009200-1654106400@standrewscs.nsw.edu.au
SUMMARY:Parent Teacher Interviews
DESCRIPTION:
URL:https://standrewscs.nsw.edu.au/event/parent-teacher-interviews-2/
END:VEVENT
BEGIN:VEVENT
DTSTART;TZID=UTC:20220526T100000
DTEND;TZID=UTC:20220526T140000
DTSTAMP:20260421T073346
CREATED:20220413T134832Z
LAST-MODIFIED:20220413T134832Z
UID:1528-1653559200-1653573600@standrewscs.nsw.edu.au
SUMMARY:2022 School Open Day
DESCRIPTION:
URL:https://standrewscs.nsw.edu.au/event/2022-school-open-day/
END:VEVENT
BEGIN:VEVENT
DTSTART;TZID=UTC:20220524T080000
DTEND;TZID=UTC:20220524T170000
DTSTAMP:20260421T073346
CREATED:20220413T134754Z
LAST-MODIFIED:20220413T134754Z
UID:1526-1653379200-1653411600@standrewscs.nsw.edu.au
SUMMARY:Primary Bus Safety Program
DESCRIPTION:
URL:https://standrewscs.nsw.edu.au/event/primary-bus-safety-program/
END:VEVENT
BEGIN:VEVENT
DTSTART;TZID=UTC:20220510T080000
DTEND;TZID=UTC:20220520T170000
DTSTAMP:20260421T073346
CREATED:20220413T134646Z
LAST-MODIFIED:20220413T134646Z
UID:1524-1652169600-1653066000@standrewscs.nsw.edu.au
SUMMARY:NAPLAN
DESCRIPTION:
URL:https://standrewscs.nsw.edu.au/event/naplan/
END:VEVENT
BEGIN:VEVENT
DTSTART;TZID=UTC:20220505T080000
DTEND;TZID=UTC:20220506T170000
DTSTAMP:20260421T073346
CREATED:20220413T134552Z
LAST-MODIFIED:20220413T134552Z
UID:1522-1651737600-1651856400@standrewscs.nsw.edu.au
SUMMARY:P&F Mother's Day Stall
DESCRIPTION:
URL:https://standrewscs.nsw.edu.au/event/pf-mothers-day-stall-2/
END:VEVENT
BEGIN:VEVENT
DTSTART;TZID=UTC:20220504T080000
DTEND;TZID=UTC:20220506T150000
DTSTAMP:20260421T073346
CREATED:20220413T134252Z
LAST-MODIFIED:20220413T134252Z
UID:1520-1651651200-1651849200@standrewscs.nsw.edu.au
SUMMARY:Year 7 and 8 Girls and Boys Camp
DESCRIPTION:
URL:https://standrewscs.nsw.edu.au/event/year-7-and-8-girls-and-boys-camp/
END:VEVENT
BEGIN:VEVENT
DTSTART;TZID=UTC:20220429T080000
DTEND;TZID=UTC:20220429T150000
DTSTAMP:20260421T073346
CREATED:20220413T134150Z
LAST-MODIFIED:20220413T134150Z
UID:1518-1651219200-1651244400@standrewscs.nsw.edu.au
SUMMARY:School Cross Country
DESCRIPTION:Primary students – Morning \nSecondary students – Afternoon
URL:https://standrewscs.nsw.edu.au/event/school-cross-country-2/
END:VEVENT
BEGIN:VEVENT
DTSTART;TZID=UTC:20220426T080000
DTEND;TZID=UTC:20220426T170000
DTSTAMP:20260421T073346
CREATED:20220118T152255Z
LAST-MODIFIED:20220118T152713Z
UID:1458-1650960000-1650992400@standrewscs.nsw.edu.au
SUMMARY:First Day of Term 2
DESCRIPTION:
URL:https://standrewscs.nsw.edu.au/event/first-day-of-term-2-3/
END:VEVENT
BEGIN:VEVENT
DTSTART;TZID=UTC:20220409T080000
DTEND;TZID=UTC:20220425T170000
DTSTAMP:20260421T073346
CREATED:20220118T152126Z
LAST-MODIFIED:20220118T152126Z
UID:1456-1649491200-1650906000@standrewscs.nsw.edu.au
SUMMARY:School Holidays
DESCRIPTION:
URL:https://standrewscs.nsw.edu.au/event/school-holidays-11/
END:VEVENT
BEGIN:VEVENT
DTSTART;TZID=UTC:20220325T080000
DTEND;TZID=UTC:20220325T170000
DTSTAMP:20260421T073346
CREATED:20220118T151824Z
LAST-MODIFIED:20220118T151824Z
UID:1452-1648195200-1648227600@standrewscs.nsw.edu.au
SUMMARY:State Touch Football - Port Macquarie
DESCRIPTION:
URL:https://standrewscs.nsw.edu.au/event/state-touch-football-port-macquarie/
END:VEVENT
BEGIN:VEVENT
DTSTART;TZID=UTC:20220323T080000
DTEND;TZID=UTC:20220323T170000
DTSTAMP:20260421T073346
CREATED:20220118T151724Z
LAST-MODIFIED:20220118T151724Z
UID:1450-1648022400-1648054800@standrewscs.nsw.edu.au
SUMMARY:Year 7 Vaccinations
DESCRIPTION:
URL:https://standrewscs.nsw.edu.au/event/year-7-vaccinations/
END:VEVENT
BEGIN:VEVENT
DTSTART;TZID=UTC:20220302T080000
DTEND;TZID=UTC:20220304T170000
DTSTAMP:20260421T073346
CREATED:20220118T151549Z
LAST-MODIFIED:20220118T151549Z
UID:1448-1646208000-1646413200@standrewscs.nsw.edu.au
SUMMARY:Year 7/8 Boys Camp
DESCRIPTION:
URL:https://standrewscs.nsw.edu.au/event/year-7-8-boys-camp/
END:VEVENT
BEGIN:VEVENT
DTSTART;TZID=UTC:20220228T080000
DTEND;TZID=UTC:20220302T170000
DTSTAMP:20260421T073346
CREATED:20220117T120720Z
LAST-MODIFIED:20220117T120720Z
UID:1432-1646035200-1646240400@standrewscs.nsw.edu.au
SUMMARY:Year 7/8 Camp - Girls
DESCRIPTION:
URL:https://standrewscs.nsw.edu.au/event/year-7-8-camp-girls/
END:VEVENT
BEGIN:VEVENT
DTSTART;TZID=UTC:20220222T080000
DTEND;TZID=UTC:20220222T170000
DTSTAMP:20260421T073346
CREATED:20220117T120624Z
LAST-MODIFIED:20220117T120624Z
UID:1430-1645516800-1645549200@standrewscs.nsw.edu.au
SUMMARY:Primary Zone Swimming Carnival
DESCRIPTION:
URL:https://standrewscs.nsw.edu.au/event/primary-zone-swimming-carnival/
END:VEVENT
BEGIN:VEVENT
DTSTART;TZID=UTC:20220209T170000
DTEND;TZID=UTC:20220209T183000
DTSTAMP:20260421T073346
CREATED:20220117T131449Z
LAST-MODIFIED:20220117T131607Z
UID:1436-1644426000-1644431400@standrewscs.nsw.edu.au
SUMMARY:Meet the Staff Night
DESCRIPTION:Our annual meet the staff night will be held on Wednesday 9 February 2022 from 5pm to 6.30pm
URL:https://standrewscs.nsw.edu.au/event/meet-the-staff-night/
END:VEVENT
BEGIN:VEVENT
DTSTART;TZID=UTC:20220203T080000
DTEND;TZID=UTC:20220203T170000
DTSTAMP:20260421T073346
CREATED:20220117T120124Z
LAST-MODIFIED:20220117T120124Z
UID:1428-1643875200-1643907600@standrewscs.nsw.edu.au
SUMMARY:Swimming Carnival
DESCRIPTION:
URL:https://standrewscs.nsw.edu.au/event/swimming-carnival-2/
END:VEVENT
END:VCALENDAR