BEGIN:VCALENDAR
VERSION:2.0
PRODID:-//St Andrews Christian School - ECPv6.15.18//NONSGML v1.0//EN
CALSCALE:GREGORIAN
METHOD:PUBLISH
X-WR-CALNAME:St Andrews Christian School
X-ORIGINAL-URL:https://standrewscs.nsw.edu.au
X-WR-CALDESC:Events for St Andrews Christian School
REFRESH-INTERVAL;VALUE=DURATION:PT1H
X-Robots-Tag:noindex
X-PUBLISHED-TTL:PT1H
BEGIN:VTIMEZONE
TZID:Australia/Sydney
BEGIN:STANDARD
TZOFFSETFROM:+1100
TZOFFSETTO:+1000
TZNAME:AEST
DTSTART:20210403T160000
END:STANDARD
BEGIN:DAYLIGHT
TZOFFSETFROM:+1000
TZOFFSETTO:+1100
TZNAME:AEDT
DTSTART:20211002T160000
END:DAYLIGHT
BEGIN:STANDARD
TZOFFSETFROM:+1100
TZOFFSETTO:+1000
TZNAME:AEST
DTSTART:20220402T160000
END:STANDARD
BEGIN:DAYLIGHT
TZOFFSETFROM:+1000
TZOFFSETTO:+1100
TZNAME:AEDT
DTSTART:20221001T160000
END:DAYLIGHT
BEGIN:STANDARD
TZOFFSETFROM:+1100
TZOFFSETTO:+1000
TZNAME:AEST
DTSTART:20230401T160000
END:STANDARD
BEGIN:DAYLIGHT
TZOFFSETFROM:+1000
TZOFFSETTO:+1100
TZNAME:AEDT
DTSTART:20230930T160000
END:DAYLIGHT
BEGIN:STANDARD
TZOFFSETFROM:+1100
TZOFFSETTO:+1000
TZNAME:AEST
DTSTART:20240406T160000
END:STANDARD
BEGIN:DAYLIGHT
TZOFFSETFROM:+1000
TZOFFSETTO:+1100
TZNAME:AEDT
DTSTART:20241005T160000
END:DAYLIGHT
END:VTIMEZONE
BEGIN:VTIMEZONE
TZID:UTC
BEGIN:STANDARD
TZOFFSETFROM:+0000
TZOFFSETTO:+0000
TZNAME:UTC
DTSTART:20210101T000000
END:STANDARD
END:VTIMEZONE
BEGIN:VEVENT
DTSTART;VALUE=DATE:20230512
DTEND;VALUE=DATE:20230513
DTSTAMP:20260421T031409
CREATED:20230213T233957Z
LAST-MODIFIED:20230213T233957Z
UID:2105-1683849600-1683935999@standrewscs.nsw.edu.au
SUMMARY:Mother's Day Stall
DESCRIPTION:
URL:https://standrewscs.nsw.edu.au/event/mothers-day-stall-2/
END:VEVENT
BEGIN:VEVENT
DTSTART;VALUE=DATE:20230511
DTEND;VALUE=DATE:20230512
DTSTAMP:20260421T031409
CREATED:20230213T233918Z
LAST-MODIFIED:20230213T233918Z
UID:2103-1683763200-1683849599@standrewscs.nsw.edu.au
SUMMARY:P&F Mother's Day Stall and Breakfast
DESCRIPTION:
URL:https://standrewscs.nsw.edu.au/event/pf-mothers-day-stall-and-breakfast/
END:VEVENT
BEGIN:VEVENT
DTSTART;VALUE=DATE:20230501
DTEND;VALUE=DATE:20230502
DTSTAMP:20260421T031409
CREATED:20230213T233735Z
LAST-MODIFIED:20230213T233735Z
UID:2101-1682899200-1682985599@standrewscs.nsw.edu.au
SUMMARY:School Photos
DESCRIPTION:
URL:https://standrewscs.nsw.edu.au/event/school-photos-3/
END:VEVENT
BEGIN:VEVENT
DTSTART;TZID=Australia/Sydney:20230424T080000
DTEND;TZID=Australia/Sydney:20230424T170000
DTSTAMP:20260421T031409
CREATED:20230213T233654Z
LAST-MODIFIED:20230213T233654Z
UID:2099-1682323200-1682355600@standrewscs.nsw.edu.au
SUMMARY:First Day of Term 4/Anzac Day Service
DESCRIPTION:
URL:https://standrewscs.nsw.edu.au/event/first-day-of-term-4-anzac-day-service/
END:VEVENT
BEGIN:VEVENT
DTSTART;VALUE=DATE:20230406
DTEND;VALUE=DATE:20230424
DTSTAMP:20260421T031409
CREATED:20221108T023540Z
LAST-MODIFIED:20221108T023540Z
UID:1816-1680739200-1682294399@standrewscs.nsw.edu.au
SUMMARY:Last Day of Term 1
DESCRIPTION:
URL:https://standrewscs.nsw.edu.au/event/last-day-of-term-1-2/
END:VEVENT
BEGIN:VEVENT
DTSTART;TZID=Australia/Sydney:20230404T080000
DTEND;TZID=Australia/Sydney:20230405T170000
DTSTAMP:20260421T031409
CREATED:20221108T023430Z
LAST-MODIFIED:20221108T023430Z
UID:1814-1680595200-1680714000@standrewscs.nsw.edu.au
SUMMARY:Parent/Teacher Interviews
DESCRIPTION:
URL:https://standrewscs.nsw.edu.au/event/parent-teacher-interviews-3/
END:VEVENT
BEGIN:VEVENT
DTSTART;VALUE=DATE:20230315
DTEND;VALUE=DATE:20230328
DTSTAMP:20260421T031409
CREATED:20221108T023345Z
LAST-MODIFIED:20221108T023345Z
UID:1812-1678838400-1679961599@standrewscs.nsw.edu.au
SUMMARY:NAPLAN
DESCRIPTION:
URL:https://standrewscs.nsw.edu.au/event/naplan-2/
END:VEVENT
BEGIN:VEVENT
DTSTART;TZID=Australia/Sydney:20230302T080000
DTEND;TZID=Australia/Sydney:20230302T170000
DTSTAMP:20260421T031409
CREATED:20230213T233135Z
LAST-MODIFIED:20230213T233135Z
UID:2096-1677744000-1677776400@standrewscs.nsw.edu.au
SUMMARY:Zone Touch Football - Ballina
DESCRIPTION:
URL:https://standrewscs.nsw.edu.au/event/zone-touch-football-ballina/
END:VEVENT
BEGIN:VEVENT
DTSTART;TZID=Australia/Sydney:20230224T080000
DTEND;TZID=Australia/Sydney:20230224T170000
DTSTAMP:20260421T031409
CREATED:20221108T023204Z
LAST-MODIFIED:20221108T023204Z
UID:1808-1677225600-1677258000@standrewscs.nsw.edu.au
SUMMARY:Primary/Secondary Zone Swimming - Coffs Harbour
DESCRIPTION:
URL:https://standrewscs.nsw.edu.au/event/primary-secondary-zone-swimming-coffs-harbour/
END:VEVENT
BEGIN:VEVENT
DTSTART;TZID=Australia/Sydney:20230222T170000
DTEND;TZID=Australia/Sydney:20230222T183000
DTSTAMP:20260421T031409
CREATED:20221108T022610Z
LAST-MODIFIED:20230120T004403Z
UID:1800-1677085200-1677090600@standrewscs.nsw.edu.au
SUMMARY:Meet the Staff Evening
DESCRIPTION:
URL:https://standrewscs.nsw.edu.au/event/meet-the-staff-evening-2/
END:VEVENT
BEGIN:VEVENT
DTSTART;TZID=Australia/Sydney:20230216T080000
DTEND;TZID=Australia/Sydney:20230216T170000
DTSTAMP:20260421T031409
CREATED:20230213T232746Z
LAST-MODIFIED:20230213T232746Z
UID:2094-1676534400-1676566800@standrewscs.nsw.edu.au
SUMMARY:Years 9-11 Art Excursion
DESCRIPTION:
URL:https://standrewscs.nsw.edu.au/event/years-9-11-art-excursion/
END:VEVENT
BEGIN:VEVENT
DTSTART;VALUE=DATE:20230208
DTEND;VALUE=DATE:20230211
DTSTAMP:20260421T031409
CREATED:20221108T023111Z
LAST-MODIFIED:20221108T023111Z
UID:1806-1675814400-1676073599@standrewscs.nsw.edu.au
SUMMARY:Year 7 & 8 Boys Brooms Head Camp
DESCRIPTION:
URL:https://standrewscs.nsw.edu.au/event/year-7-8-boys-brooms-head-camp/
END:VEVENT
BEGIN:VEVENT
DTSTART;TZID=Australia/Sydney:20230206T080000
DTEND;TZID=Australia/Sydney:20230206T170000
DTSTAMP:20260421T031409
CREATED:20221108T022323Z
LAST-MODIFIED:20221108T022323Z
UID:1798-1675670400-1675702800@standrewscs.nsw.edu.au
SUMMARY:First Day of Term 1 for Pre-Prep
DESCRIPTION:
URL:https://standrewscs.nsw.edu.au/event/first-day-of-term-1-for-pre-prep/
END:VEVENT
BEGIN:VEVENT
DTSTART;VALUE=DATE:20230206
DTEND;VALUE=DATE:20230209
DTSTAMP:20260421T031409
CREATED:20221108T023015Z
LAST-MODIFIED:20221108T023015Z
UID:1804-1675641600-1675900799@standrewscs.nsw.edu.au
SUMMARY:Year 7 & 8 Girls Brooms Head Camp
DESCRIPTION:
URL:https://standrewscs.nsw.edu.au/event/year-7-8-girls-brooms-head-camp/
END:VEVENT
BEGIN:VEVENT
DTSTART;TZID=Australia/Sydney:20230201T080000
DTEND;TZID=Australia/Sydney:20230201T170000
DTSTAMP:20260421T031409
CREATED:20221108T022234Z
LAST-MODIFIED:20221108T022234Z
UID:1796-1675238400-1675270800@standrewscs.nsw.edu.au
SUMMARY:First Day of Term 1 for Prep\, Kindergarten - Year 2
DESCRIPTION:
URL:https://standrewscs.nsw.edu.au/event/first-day-of-term-1-for-prep-kindergarten-year-2/
END:VEVENT
BEGIN:VEVENT
DTSTART;TZID=Australia/Sydney:20230131T080000
DTEND;TZID=Australia/Sydney:20230131T170000
DTSTAMP:20260421T031409
CREATED:20221108T022113Z
LAST-MODIFIED:20221108T022113Z
UID:1794-1675152000-1675184400@standrewscs.nsw.edu.au
SUMMARY:Years 3-12 Swimming Carnival at Maclean Olympic Pool
DESCRIPTION:
URL:https://standrewscs.nsw.edu.au/event/years-3-12-swimming-carnival-at-maclean-olympic-pool/
END:VEVENT
BEGIN:VEVENT
DTSTART;VALUE=DATE:20230130
DTEND;VALUE=DATE:20230131
DTSTAMP:20260421T031409
CREATED:20221108T022017Z
LAST-MODIFIED:20221108T022017Z
UID:1792-1675036800-1675123199@standrewscs.nsw.edu.au
SUMMARY:First Day for 2023 - Years 3-12
DESCRIPTION:
URL:https://standrewscs.nsw.edu.au/event/first-day-for-2023-years-3-12/
END:VEVENT
BEGIN:VEVENT
DTSTART;TZID=UTC:20221208T080000
DTEND;TZID=UTC:20230129T170000
DTSTAMP:20260421T031409
CREATED:20220118T153557Z
LAST-MODIFIED:20221108T021916Z
UID:1472-1670486400-1675011600@standrewscs.nsw.edu.au
SUMMARY:School Holidays
DESCRIPTION:
URL:https://standrewscs.nsw.edu.au/event/school-holidays-14/
END:VEVENT
BEGIN:VEVENT
DTSTART;TZID=UTC:20221207T080000
DTEND;TZID=UTC:20221207T170000
DTSTAMP:20260421T031409
CREATED:20220704T125339Z
LAST-MODIFIED:20220704T125339Z
UID:1588-1670400000-1670432400@standrewscs.nsw.edu.au
SUMMARY:Last Day of Term 4/Presentation Night
DESCRIPTION:
URL:https://standrewscs.nsw.edu.au/event/last-day-of-term-4-presentation-night-4/
END:VEVENT
BEGIN:VEVENT
DTSTART;TZID=UTC:20221207T080000
DTEND;TZID=UTC:20221207T170000
DTSTAMP:20260421T031409
CREATED:20220118T153440Z
LAST-MODIFIED:20220413T133404Z
UID:1470-1670400000-1670432400@standrewscs.nsw.edu.au
SUMMARY:Last Day of Term 4
DESCRIPTION:
URL:https://standrewscs.nsw.edu.au/event/last-day-of-term-4/
END:VEVENT
BEGIN:VEVENT
DTSTART;VALUE=DATE:20221206
DTEND;VALUE=DATE:20221207
DTSTAMP:20260421T031409
CREATED:20221108T025324Z
LAST-MODIFIED:20221108T025324Z
UID:1820-1670284800-1670371199@standrewscs.nsw.edu.au
SUMMARY:Rewards Day
DESCRIPTION:Kindergarten to Year 5 – Movie at Saraton Theatre \nYear 6 – Celebrating Graduation at Solitary Islands Marine Resort at Wooli \nYears 7 -11 – A day at Minnie Waters
URL:https://standrewscs.nsw.edu.au/event/rewards-day/
END:VEVENT
BEGIN:VEVENT
DTSTART;TZID=UTC:20221130T080000
DTEND;TZID=UTC:20221202T170000
DTSTAMP:20260421T031409
CREATED:20220704T125429Z
LAST-MODIFIED:20220704T125429Z
UID:1590-1669795200-1670000400@standrewscs.nsw.edu.au
SUMMARY:Year 9/10 Scotts Head Camp
DESCRIPTION:
URL:https://standrewscs.nsw.edu.au/event/year-9-10-scotts-head-camp/
END:VEVENT
BEGIN:VEVENT
DTSTART;TZID=UTC:20221121T080000
DTEND;TZID=UTC:20221123T170000
DTSTAMP:20260421T031409
CREATED:20220704T125524Z
LAST-MODIFIED:20220704T125524Z
UID:1592-1669017600-1669222800@standrewscs.nsw.edu.au
SUMMARY:Year 5 and 6 Excursion
DESCRIPTION:
URL:https://standrewscs.nsw.edu.au/event/year-5-and-6-excursion/
END:VEVENT
BEGIN:VEVENT
DTSTART;TZID=Australia/Sydney:20221108T080000
DTEND;TZID=Australia/Sydney:20221108T170000
DTSTAMP:20260421T031409
CREATED:20221108T022721Z
LAST-MODIFIED:20221108T022918Z
UID:1802-1667894400-1667926800@standrewscs.nsw.edu.au
SUMMARY:School Commencement Service
DESCRIPTION:
URL:https://standrewscs.nsw.edu.au/event/school-commencement-service/
LOCATION:Grafton Presbyterian Church\, Oliver Street\, Grafton\, NSW\, 2460\, Australia
END:VEVENT
BEGIN:VEVENT
DTSTART;TZID=UTC:20221029T100000
DTEND;TZID=UTC:20221029T140000
DTSTAMP:20260421T031409
CREATED:20220704T125118Z
LAST-MODIFIED:20220704T125118Z
UID:1584-1667037600-1667052000@standrewscs.nsw.edu.au
SUMMARY:Jacaranda Fair
DESCRIPTION:
URL:https://standrewscs.nsw.edu.au/event/jacaranda-fair-2/
END:VEVENT
BEGIN:VEVENT
DTSTART;TZID=UTC:20221019T000000
DTEND;TZID=UTC:20221019T235900
DTSTAMP:20260421T031409
CREATED:20220118T153349Z
LAST-MODIFIED:20221003T231248Z
UID:1468-1666137600-1666223940@standrewscs.nsw.edu.au
SUMMARY:Year 7 Second Vaccinations
DESCRIPTION:
URL:https://standrewscs.nsw.edu.au/event/year-7-second-vaccinations/
END:VEVENT
BEGIN:VEVENT
DTSTART;TZID=UTC:20220924T080000
DTEND;TZID=UTC:20221009T170000
DTSTAMP:20260421T031409
CREATED:20220118T153300Z
LAST-MODIFIED:20220118T153300Z
UID:1466-1664006400-1665334800@standrewscs.nsw.edu.au
SUMMARY:School Holidays
DESCRIPTION:
URL:https://standrewscs.nsw.edu.au/event/school-holidays-13/
END:VEVENT
BEGIN:VEVENT
DTSTART;TZID=UTC:20220923T080000
DTEND;TZID=UTC:20220923T170000
DTSTAMP:20260421T031409
CREATED:20220704T124520Z
LAST-MODIFIED:20220704T124520Z
UID:1580-1663920000-1663952400@standrewscs.nsw.edu.au
SUMMARY:Last Day of Term 3
DESCRIPTION:
URL:https://standrewscs.nsw.edu.au/event/last-day-of-term-3-4/
END:VEVENT
BEGIN:VEVENT
DTSTART;TZID=UTC:20220919T080000
DTEND;TZID=UTC:20220923T170000
DTSTAMP:20260421T031409
CREATED:20220704T124454Z
LAST-MODIFIED:20220704T124454Z
UID:1578-1663574400-1663952400@standrewscs.nsw.edu.au
SUMMARY:Year 11 Work Experience/Outdoor Recreation
DESCRIPTION:
URL:https://standrewscs.nsw.edu.au/event/year-11-work-experience-outdoor-recreation/
END:VEVENT
BEGIN:VEVENT
DTSTART;TZID=UTC:20220916T080000
DTEND;TZID=UTC:20220916T170000
DTSTAMP:20260421T031409
CREATED:20220704T124355Z
LAST-MODIFIED:20220704T124355Z
UID:1576-1663315200-1663347600@standrewscs.nsw.edu.au
SUMMARY:NRL (Secondary)/Netball (Primary and Secondary) Gala Day in Lismore
DESCRIPTION:
URL:https://standrewscs.nsw.edu.au/event/nrl-secondary-netball-primary-and-secondary-gala-day-in-lismore/
END:VEVENT
END:VCALENDAR