BEGIN:VCALENDAR
VERSION:2.0
PRODID:-//St Andrews Christian School - ECPv6.15.18//NONSGML v1.0//EN
CALSCALE:GREGORIAN
METHOD:PUBLISH
X-ORIGINAL-URL:https://standrewscs.nsw.edu.au
X-WR-CALDESC:Events for St Andrews Christian School
REFRESH-INTERVAL;VALUE=DURATION:PT1H
X-Robots-Tag:noindex
X-PUBLISHED-TTL:PT1H
BEGIN:VTIMEZONE
TZID:Australia/Sydney
BEGIN:STANDARD
TZOFFSETFROM:+1100
TZOFFSETTO:+1000
TZNAME:AEST
DTSTART:20240406T160000
END:STANDARD
BEGIN:DAYLIGHT
TZOFFSETFROM:+1000
TZOFFSETTO:+1100
TZNAME:AEDT
DTSTART:20241005T160000
END:DAYLIGHT
BEGIN:STANDARD
TZOFFSETFROM:+1100
TZOFFSETTO:+1000
TZNAME:AEST
DTSTART:20250405T160000
END:STANDARD
BEGIN:DAYLIGHT
TZOFFSETFROM:+1000
TZOFFSETTO:+1100
TZNAME:AEDT
DTSTART:20251004T160000
END:DAYLIGHT
BEGIN:STANDARD
TZOFFSETFROM:+1100
TZOFFSETTO:+1000
TZNAME:AEST
DTSTART:20260404T160000
END:STANDARD
BEGIN:DAYLIGHT
TZOFFSETFROM:+1000
TZOFFSETTO:+1100
TZNAME:AEDT
DTSTART:20261003T160000
END:DAYLIGHT
END:VTIMEZONE
BEGIN:VEVENT
DTSTART;VALUE=DATE:20250312
DTEND;VALUE=DATE:20250325
DTSTAMP:20260421T000552
CREATED:20241213T005903Z
LAST-MODIFIED:20241213T005903Z
UID:2938-1741737600-1742860799@standrewscs.nsw.edu.au
SUMMARY:NAPLAN
DESCRIPTION:
URL:https://standrewscs.nsw.edu.au/event/naplan-4/
END:VEVENT
BEGIN:VEVENT
DTSTART;TZID=Australia/Sydney:20250329T080000
DTEND;TZID=Australia/Sydney:20250329T160000
DTSTAMP:20260421T000552
CREATED:20250326T030753Z
LAST-MODIFIED:20250326T030922Z
UID:3078-1743235200-1743264000@standrewscs.nsw.edu.au
SUMMARY:Bunnings BBQ
DESCRIPTION:
URL:https://standrewscs.nsw.edu.au/event/bunnings-bbq-3/
LOCATION:Bunnings Grafton
END:VEVENT
BEGIN:VEVENT
DTSTART;TZID=Australia/Sydney:20250401T150000
DTEND;TZID=Australia/Sydney:20250401T170000
DTSTAMP:20260421T000552
CREATED:20250326T032510Z
LAST-MODIFIED:20250326T032510Z
UID:3080-1743519600-1743526800@standrewscs.nsw.edu.au
SUMMARY:Parent/Teacher Interviews
DESCRIPTION:
URL:https://standrewscs.nsw.edu.au/event/parent-teacher-interviews-4/
END:VEVENT
BEGIN:VEVENT
DTSTART;TZID=Australia/Sydney:20250402T150000
DTEND;TZID=Australia/Sydney:20250402T170000
DTSTAMP:20260421T000552
CREATED:20250326T032545Z
LAST-MODIFIED:20250326T032545Z
UID:3082-1743606000-1743613200@standrewscs.nsw.edu.au
SUMMARY:Parent/Teacher Interviews
DESCRIPTION:
URL:https://standrewscs.nsw.edu.au/event/parent-teacher-interviews-5/
END:VEVENT
BEGIN:VEVENT
DTSTART;VALUE=DATE:20250411
DTEND;VALUE=DATE:20250412
DTSTAMP:20260421T000552
CREATED:20241213T010107Z
LAST-MODIFIED:20241213T010107Z
UID:2943-1744329600-1744415999@standrewscs.nsw.edu.au
SUMMARY:Last Day Term 1
DESCRIPTION:
URL:https://standrewscs.nsw.edu.au/event/last-day-term-1-3/
END:VEVENT
BEGIN:VEVENT
DTSTART;TZID=Australia/Sydney:20250411T110000
DTEND;TZID=Australia/Sydney:20250411T150000
DTSTAMP:20260421T000552
CREATED:20250326T032713Z
LAST-MODIFIED:20250326T032713Z
UID:3084-1744369200-1744383600@standrewscs.nsw.edu.au
SUMMARY:Cross Country
DESCRIPTION:
URL:https://standrewscs.nsw.edu.au/event/cross-country-2/
END:VEVENT
BEGIN:VEVENT
DTSTART;TZID=Australia/Sydney:20250411T120000
DTEND;TZID=Australia/Sydney:20250411T150000
DTSTAMP:20260421T000552
CREATED:20250326T032843Z
LAST-MODIFIED:20250326T032843Z
UID:3086-1744372800-1744383600@standrewscs.nsw.edu.au
SUMMARY:World's Greatest Shave
DESCRIPTION:
URL:https://standrewscs.nsw.edu.au/event/worlds-greatest-shave/
END:VEVENT
BEGIN:VEVENT
DTSTART;VALUE=DATE:20250412
DTEND;VALUE=DATE:20250428
DTSTAMP:20260421T000552
CREATED:20241213T005947Z
LAST-MODIFIED:20241213T010019Z
UID:2940-1744416000-1745798399@standrewscs.nsw.edu.au
SUMMARY:School Holidays
DESCRIPTION:
URL:https://standrewscs.nsw.edu.au/event/last-day-term-1-2/
END:VEVENT
BEGIN:VEVENT
DTSTART;VALUE=DATE:20250428
DTEND;VALUE=DATE:20250429
DTSTAMP:20260421T000552
CREATED:20241213T010143Z
LAST-MODIFIED:20241213T010143Z
UID:2945-1745798400-1745884799@standrewscs.nsw.edu.au
SUMMARY:First Day Term 2
DESCRIPTION:
URL:https://standrewscs.nsw.edu.au/event/first-day-term-2-2/
END:VEVENT
BEGIN:VEVENT
DTSTART;TZID=Australia/Sydney:20250428T103000
DTEND;TZID=Australia/Sydney:20250428T113000
DTSTAMP:20260421T000552
CREATED:20250326T033157Z
LAST-MODIFIED:20250326T033157Z
UID:3088-1745836200-1745839800@standrewscs.nsw.edu.au
SUMMARY:ANZAC Assembly
DESCRIPTION:
URL:https://standrewscs.nsw.edu.au/event/anzac-assembly/
END:VEVENT
BEGIN:VEVENT
DTSTART;VALUE=DATE:20250430
DTEND;VALUE=DATE:20250501
DTSTAMP:20260421T000552
CREATED:20241213T010210Z
LAST-MODIFIED:20241213T010210Z
UID:2947-1745971200-1746057599@standrewscs.nsw.edu.au
SUMMARY:Year 7 & 10 Vaccinations
DESCRIPTION:
URL:https://standrewscs.nsw.edu.au/event/year-7-10-vaccinations/
END:VEVENT
BEGIN:VEVENT
DTSTART;TZID=Australia/Sydney:20250507T080000
DTEND;TZID=Australia/Sydney:20250507T150000
DTSTAMP:20260421T000552
CREATED:20250326T033259Z
LAST-MODIFIED:20250326T033259Z
UID:3090-1746604800-1746630000@standrewscs.nsw.edu.au
SUMMARY:School Photos
DESCRIPTION:
URL:https://standrewscs.nsw.edu.au/event/school-photos-4/
END:VEVENT
BEGIN:VEVENT
DTSTART;TZID=Australia/Sydney:20250507T080000
DTEND;TZID=Australia/Sydney:20250508T170000
DTSTAMP:20260421T000552
CREATED:20241213T010244Z
LAST-MODIFIED:20241213T010244Z
UID:2949-1746604800-1746723600@standrewscs.nsw.edu.au
SUMMARY:Mother's Day Stall
DESCRIPTION:
URL:https://standrewscs.nsw.edu.au/event/mothers-day-stall-4/
END:VEVENT
BEGIN:VEVENT
DTSTART;TZID=Australia/Sydney:20250509T080000
DTEND;TZID=Australia/Sydney:20250509T170000
DTSTAMP:20260421T000552
CREATED:20241213T010311Z
LAST-MODIFIED:20241213T010311Z
UID:2951-1746777600-1746810000@standrewscs.nsw.edu.au
SUMMARY:Mother's Day Breakfast
DESCRIPTION:
URL:https://standrewscs.nsw.edu.au/event/mothers-day-breakfast-2/
END:VEVENT
BEGIN:VEVENT
DTSTART;VALUE=DATE:20250603
DTEND;VALUE=DATE:20250604
DTSTAMP:20260421T000552
CREATED:20250528T225006Z
LAST-MODIFIED:20250528T225006Z
UID:3122-1748908800-1748995199@standrewscs.nsw.edu.au
SUMMARY:Eisteddfod
DESCRIPTION:
URL:https://standrewscs.nsw.edu.au/event/eisteddfod/
END:VEVENT
BEGIN:VEVENT
DTSTART;VALUE=DATE:20250609
DTEND;VALUE=DATE:20250610
DTSTAMP:20260421T000552
CREATED:20250528T225100Z
LAST-MODIFIED:20250528T225117Z
UID:3124-1749427200-1749513599@standrewscs.nsw.edu.au
SUMMARY:King's Birthday Public Holiday
DESCRIPTION:
URL:https://standrewscs.nsw.edu.au/event/kings-birthday-public-holiday/
END:VEVENT
BEGIN:VEVENT
DTSTART;VALUE=DATE:20250610
DTEND;VALUE=DATE:20250621
DTSTAMP:20260421T000552
CREATED:20241213T010417Z
LAST-MODIFIED:20241213T010417Z
UID:2953-1749513600-1750463999@standrewscs.nsw.edu.au
SUMMARY:Year 7-10 half yearly exams
DESCRIPTION:
URL:https://standrewscs.nsw.edu.au/event/year-7-10-half-yearly-exams-5/
END:VEVENT
BEGIN:VEVENT
DTSTART;VALUE=DATE:20250616
DTEND;VALUE=DATE:20250621
DTSTAMP:20260421T000552
CREATED:20250619T040543Z
LAST-MODIFIED:20250619T040543Z
UID:3187-1750032000-1750463999@standrewscs.nsw.edu.au
SUMMARY:Week 8
DESCRIPTION:
URL:https://standrewscs.nsw.edu.au/event/week-8/
END:VEVENT
BEGIN:VEVENT
DTSTART;VALUE=DATE:20250623
DTEND;VALUE=DATE:20250628
DTSTAMP:20260421T000552
CREATED:20250619T041351Z
LAST-MODIFIED:20250619T041351Z
UID:3189-1750636800-1751068799@standrewscs.nsw.edu.au
SUMMARY:Week 9
DESCRIPTION:
URL:https://standrewscs.nsw.edu.au/event/week-9/
END:VEVENT
BEGIN:VEVENT
DTSTART;VALUE=DATE:20250625
DTEND;VALUE=DATE:20250626
DTSTAMP:20260421T000552
CREATED:20250528T225214Z
LAST-MODIFIED:20250612T030026Z
UID:3126-1750809600-1750895999@standrewscs.nsw.edu.au
SUMMARY:Athletics Carnival
DESCRIPTION:
URL:https://standrewscs.nsw.edu.au/event/athletics-carnival-2/
LOCATION:junction hill\, Barnier Park\, Junction Hill\, NSW\, 2460\, Australia
END:VEVENT
BEGIN:VEVENT
DTSTART;VALUE=DATE:20250630
DTEND;VALUE=DATE:20250705
DTSTAMP:20260421T000552
CREATED:20250619T041433Z
LAST-MODIFIED:20250619T041433Z
UID:3191-1751241600-1751673599@standrewscs.nsw.edu.au
SUMMARY:Week 10
DESCRIPTION:
URL:https://standrewscs.nsw.edu.au/event/week-10/
END:VEVENT
BEGIN:VEVENT
DTSTART;TZID=Australia/Sydney:20250701T180000
DTEND;TZID=Australia/Sydney:20250701T193000
DTSTAMP:20260421T000552
CREATED:20250528T225317Z
LAST-MODIFIED:20250612T030233Z
UID:3128-1751392800-1751398200@standrewscs.nsw.edu.au
SUMMARY:Year 9 2026 Information Evening
DESCRIPTION:
URL:https://standrewscs.nsw.edu.au/event/year-9-2026-information-evening/
END:VEVENT
BEGIN:VEVENT
DTSTART;VALUE=DATE:20250703
DTEND;VALUE=DATE:20250704
DTSTAMP:20260421T000552
CREATED:20250528T225441Z
LAST-MODIFIED:20250528T225441Z
UID:3132-1751500800-1751587199@standrewscs.nsw.edu.au
SUMMARY:SALT Christian Leadership
DESCRIPTION:
URL:https://standrewscs.nsw.edu.au/event/salt-christian-leadership/
END:VEVENT
BEGIN:VEVENT
DTSTART;TZID=Australia/Sydney:20250703T180000
DTEND;TZID=Australia/Sydney:20250703T193000
DTSTAMP:20260421T000552
CREATED:20250528T225403Z
LAST-MODIFIED:20250612T030202Z
UID:3130-1751565600-1751571000@standrewscs.nsw.edu.au
SUMMARY:Year 11 2026 Information Evening
DESCRIPTION:
URL:https://standrewscs.nsw.edu.au/event/year-11-2026-information-evening/
END:VEVENT
BEGIN:VEVENT
DTSTART;VALUE=DATE:20250704
DTEND;VALUE=DATE:20250705
DTSTAMP:20260421T000552
CREATED:20241213T010448Z
LAST-MODIFIED:20241213T010448Z
UID:2955-1751587200-1751673599@standrewscs.nsw.edu.au
SUMMARY:Last Day Term 2
DESCRIPTION:
URL:https://standrewscs.nsw.edu.au/event/last-day-term-2-2/
END:VEVENT
BEGIN:VEVENT
DTSTART;VALUE=DATE:20250704
DTEND;VALUE=DATE:20250705
DTSTAMP:20260421T000552
CREATED:20250528T225510Z
LAST-MODIFIED:20250528T225510Z
UID:3134-1751587200-1751673599@standrewscs.nsw.edu.au
SUMMARY:NAIDOC Day
DESCRIPTION:
URL:https://standrewscs.nsw.edu.au/event/naidoc-day-2/
END:VEVENT
BEGIN:VEVENT
DTSTART;VALUE=DATE:20250705
DTEND;VALUE=DATE:20250728
DTSTAMP:20260421T000552
CREATED:20241213T011036Z
LAST-MODIFIED:20241213T011036Z
UID:2960-1751673600-1753660799@standrewscs.nsw.edu.au
SUMMARY:School Holidays
DESCRIPTION:
URL:https://standrewscs.nsw.edu.au/event/school-holidays-21/
END:VEVENT
BEGIN:VEVENT
DTSTART;VALUE=DATE:20250728
DTEND;VALUE=DATE:20250729
DTSTAMP:20260421T000552
CREATED:20241213T010521Z
LAST-MODIFIED:20241213T011147Z
UID:2957-1753660800-1753747199@standrewscs.nsw.edu.au
SUMMARY:First Day Term 3
DESCRIPTION:
URL:https://standrewscs.nsw.edu.au/event/school-holidays-20/
END:VEVENT
BEGIN:VEVENT
DTSTART;VALUE=DATE:20250728
DTEND;VALUE=DATE:20250802
DTSTAMP:20260421T000552
CREATED:20250622T235353Z
LAST-MODIFIED:20250622T235353Z
UID:3193-1753660800-1754092799@standrewscs.nsw.edu.au
SUMMARY:Week One
DESCRIPTION:
URL:https://standrewscs.nsw.edu.au/event/week-one/
END:VEVENT
BEGIN:VEVENT
DTSTART;VALUE=DATE:20250730
DTEND;VALUE=DATE:20250731
DTSTAMP:20260421T000552
CREATED:20250528T225639Z
LAST-MODIFIED:20250528T225639Z
UID:3136-1753833600-1753919999@standrewscs.nsw.edu.au
SUMMARY:Zone Athletics Carnival
DESCRIPTION:
URL:https://standrewscs.nsw.edu.au/event/zone-athletics-carnival/
END:VEVENT
END:VCALENDAR