BEGIN:VCALENDAR
VERSION:2.0
PRODID:-//St Andrews Christian School - ECPv6.15.18//NONSGML v1.0//EN
CALSCALE:GREGORIAN
METHOD:PUBLISH
X-WR-CALNAME:St Andrews Christian School
X-ORIGINAL-URL:https://standrewscs.nsw.edu.au
X-WR-CALDESC:Events for St Andrews Christian School
REFRESH-INTERVAL;VALUE=DURATION:PT1H
X-Robots-Tag:noindex
X-PUBLISHED-TTL:PT1H
BEGIN:VTIMEZONE
TZID:UTC
BEGIN:STANDARD
TZOFFSETFROM:+0000
TZOFFSETTO:+0000
TZNAME:UTC
DTSTART:20190101T000000
END:STANDARD
END:VTIMEZONE
BEGIN:VEVENT
DTSTART;VALUE=DATE:20210429
DTEND;VALUE=DATE:20210430
DTSTAMP:20260421T152754
CREATED:20210414T124045Z
LAST-MODIFIED:20210414T124045Z
UID:1203-1619654400-1619740799@standrewscs.nsw.edu.au
SUMMARY:Year 12 Art Excursion
DESCRIPTION:
URL:https://standrewscs.nsw.edu.au/event/year-12-art-excursion/
END:VEVENT
BEGIN:VEVENT
DTSTART;VALUE=DATE:20210428
DTEND;VALUE=DATE:20210429
DTSTAMP:20260421T152754
CREATED:20210414T124134Z
LAST-MODIFIED:20210414T124134Z
UID:1205-1619568000-1619654399@standrewscs.nsw.edu.au
SUMMARY:Year 7 & 8 Vaccinations
DESCRIPTION:
URL:https://standrewscs.nsw.edu.au/event/year-7-8-vaccinations/
END:VEVENT
BEGIN:VEVENT
DTSTART;TZID=UTC:20210427T103000
DTEND;TZID=UTC:20210427T113000
DTSTAMP:20260421T152754
CREATED:20210414T123734Z
LAST-MODIFIED:20210414T123734Z
UID:1199-1619519400-1619523000@standrewscs.nsw.edu.au
SUMMARY:ANZAC Day Service and New Building Opening Ceremony
DESCRIPTION:
URL:https://standrewscs.nsw.edu.au/event/anzac-day-service-and-new-building-opening-ceremony/
END:VEVENT
BEGIN:VEVENT
DTSTART;TZID=UTC:20210427T090000
DTEND;TZID=UTC:20210427T103000
DTSTAMP:20260421T152754
CREATED:20210414T123916Z
LAST-MODIFIED:20210414T123916Z
UID:1201-1619514000-1619519400@standrewscs.nsw.edu.au
SUMMARY:Leigh Hobbs Excursion for Years 3/4 and 4/5 at Grafton Library
DESCRIPTION:
URL:https://standrewscs.nsw.edu.au/event/leigh-hobbs-excursion-for-years-3-4-and-4-5-at-grafton-library/
END:VEVENT
BEGIN:VEVENT
DTSTART;TZID=UTC:20210423T090000
DTEND;TZID=UTC:20210423T150000
DTSTAMP:20260421T152754
CREATED:20210414T123621Z
LAST-MODIFIED:20210414T123621Z
UID:1197-1619168400-1619190000@standrewscs.nsw.edu.au
SUMMARY:School Cross Country
DESCRIPTION:
URL:https://standrewscs.nsw.edu.au/event/school-cross-country/
END:VEVENT
BEGIN:VEVENT
DTSTART;TZID=UTC:20210422T100000
DTEND;TZID=UTC:20210422T103000
DTSTAMP:20260421T152754
CREATED:20210414T123451Z
LAST-MODIFIED:20210414T123451Z
UID:1194-1619085600-1619087400@standrewscs.nsw.edu.au
SUMMARY:Musical Performance at Grafton Shopping World for Senior's Week
DESCRIPTION:
URL:https://standrewscs.nsw.edu.au/event/musical-performance-at-grafton-shopping-world-for-seniors-week/
LOCATION:Grafton Shopping World
END:VEVENT
BEGIN:VEVENT
DTSTART;VALUE=DATE:20210419
DTEND;VALUE=DATE:20210420
DTSTAMP:20260421T152754
CREATED:20201105T162005Z
LAST-MODIFIED:20201105T162005Z
UID:1040-1618790400-1618876799@standrewscs.nsw.edu.au
SUMMARY:First Day of Term 2
DESCRIPTION:
URL:https://standrewscs.nsw.edu.au/event/first-day-of-term-2-2/
END:VEVENT
BEGIN:VEVENT
DTSTART;VALUE=DATE:20210402
DTEND;VALUE=DATE:20210417
DTSTAMP:20260421T152754
CREATED:20201105T161928Z
LAST-MODIFIED:20201105T161928Z
UID:1038-1617321600-1618617599@standrewscs.nsw.edu.au
SUMMARY:School Holidays
DESCRIPTION:
URL:https://standrewscs.nsw.edu.au/event/school-holidays-7/
END:VEVENT
BEGIN:VEVENT
DTSTART;VALUE=DATE:20210401
DTEND;VALUE=DATE:20210402
DTSTAMP:20260421T152754
CREATED:20201105T161705Z
LAST-MODIFIED:20201105T161808Z
UID:1036-1617235200-1617321599@standrewscs.nsw.edu.au
SUMMARY:End of Term 1
DESCRIPTION:
URL:https://standrewscs.nsw.edu.au/event/end-of-term-1/
END:VEVENT
BEGIN:VEVENT
DTSTART;TZID=UTC:20210330T160000
DTEND;TZID=UTC:20210331T190000
DTSTAMP:20260421T152754
CREATED:20201209T131544Z
LAST-MODIFIED:20201209T131544Z
UID:1112-1617120000-1617217200@standrewscs.nsw.edu.au
SUMMARY:Parent Teacher Interviews
DESCRIPTION:
URL:https://standrewscs.nsw.edu.au/event/parent-teacher-interviews/
END:VEVENT
BEGIN:VEVENT
DTSTART;VALUE=DATE:20210303
DTEND;VALUE=DATE:20210306
DTSTAMP:20260421T152754
CREATED:20201209T131421Z
LAST-MODIFIED:20201209T131421Z
UID:1110-1614729600-1614988799@standrewscs.nsw.edu.au
SUMMARY:Year 7 and 8 Girls Camp
DESCRIPTION:
URL:https://standrewscs.nsw.edu.au/event/year-7-and-8-girls-camp/
END:VEVENT
BEGIN:VEVENT
DTSTART;VALUE=DATE:20210301
DTEND;VALUE=DATE:20210304
DTSTAMP:20260421T152754
CREATED:20201209T131336Z
LAST-MODIFIED:20201209T131336Z
UID:1108-1614556800-1614815999@standrewscs.nsw.edu.au
SUMMARY:Year 7 and 8 Boys Camp
DESCRIPTION:
URL:https://standrewscs.nsw.edu.au/event/year-7-and-8-boys-camp/
END:VEVENT
BEGIN:VEVENT
DTSTART;TZID=UTC:20210210T170000
DTEND;TZID=UTC:20210210T183000
DTSTAMP:20260421T152754
CREATED:20201209T130808Z
LAST-MODIFIED:20210128T153132Z
UID:1106-1612976400-1612981800@standrewscs.nsw.edu.au
SUMMARY:Meet the Staff Evening
DESCRIPTION:On Wednesday 10th February 2021\, the school will be holding an evening where parents can come along with their children and informally meet the staff of St. Andrew’s Christian School for 2021. \nThe evening will be held from 5:00pm to 6:30pm in and around the school COLA where you will have the opportunity to informally chat to the staff. \nAt approximately 5:30pm staff will serve a free sausage sizzle courtesy of St. Andrew’s Christian School Parents & Friends Association\, followed by an ice cream. \nTo follow all current health requirements\, we are asking that you: \n\nregister all attendees prior to the event (this includes children) – see Eventbrite link below\nmaintain distancing when sitting in family groups\, queuing\, moving around the site\nbring your own drinks with you\nwatch Facebook and our emails for any changes in these arrangements\n\nFor catering and COVID Safe purposes\, please RSVP via the following link https://www.eventbrite.com.au/e/meet-the-staff-evening-tickets-138880201421 by Tuesday 9 February 2021. \n  \n 
URL:https://standrewscs.nsw.edu.au/event/meet-the-parents-evening/
ATTACH;FMTTYPE=image/jpeg:https://standrewscs.nsw.edu.au/wp-content/uploads/2021/01/SACS213.jpg
END:VEVENT
BEGIN:VEVENT
DTSTART;TZID=UTC:20210201T090000
DTEND;TZID=UTC:20210201T150000
DTSTAMP:20260421T152754
CREATED:20201209T125946Z
LAST-MODIFIED:20201209T125946Z
UID:1104-1612170000-1612191600@standrewscs.nsw.edu.au
SUMMARY:Kindergarten-Year 12 Swimming Carnival
DESCRIPTION:
URL:https://standrewscs.nsw.edu.au/event/kindergarten-year-12-swimming-carnival/
END:VEVENT
BEGIN:VEVENT
DTSTART;VALUE=DATE:20210201
DTEND;VALUE=DATE:20210202
DTSTAMP:20260421T152754
CREATED:20200629T140304Z
LAST-MODIFIED:20201209T125818Z
UID:844-1612137600-1612223999@standrewscs.nsw.edu.au
SUMMARY:Term 1 - First Day of Kindergarten and Pre-Prep
DESCRIPTION:
URL:https://standrewscs.nsw.edu.au/event/term-1-first-day-of-kindergarten/
END:VEVENT
BEGIN:VEVENT
DTSTART;VALUE=DATE:20210128
DTEND;VALUE=DATE:20210129
DTSTAMP:20260421T152754
CREATED:20200629T140209Z
LAST-MODIFIED:20201209T125732Z
UID:842-1611792000-1611878399@standrewscs.nsw.edu.au
SUMMARY:First Day for Term 1 - Prep\, Primary (excluding Kindergarten)\, Years 8-10
DESCRIPTION:
URL:https://standrewscs.nsw.edu.au/event/first-day-for-term-1-all-other-years-except-kindergarten/
END:VEVENT
BEGIN:VEVENT
DTSTART;TZID=UTC:20210127T090000
DTEND;TZID=UTC:20210127T120000
DTSTAMP:20260421T152754
CREATED:20201209T140523Z
LAST-MODIFIED:20201209T140523Z
UID:1138-1611738000-1611748800@standrewscs.nsw.edu.au
SUMMARY:Pre-Prep\, Prep and Kindergarten Orientation
DESCRIPTION:
URL:https://standrewscs.nsw.edu.au/event/pre-prep-prep-and-kindergarten-orientation/
END:VEVENT
BEGIN:VEVENT
DTSTART;VALUE=DATE:20210127
DTEND;VALUE=DATE:20210128
DTSTAMP:20260421T152754
CREATED:20200629T140116Z
LAST-MODIFIED:20200629T140116Z
UID:839-1611705600-1611791999@standrewscs.nsw.edu.au
SUMMARY:First day Term 1 - Years 7\,11\,12
DESCRIPTION:
URL:https://standrewscs.nsw.edu.au/event/first-day-term-1-years-71112/
END:VEVENT
BEGIN:VEVENT
DTSTART;TZID=UTC:20201209T080000
DTEND;TZID=UTC:20210126T170000
DTSTAMP:20260421T152754
CREATED:20200629T140416Z
LAST-MODIFIED:20200629T140416Z
UID:846-1607500800-1611680400@standrewscs.nsw.edu.au
SUMMARY:School Holidays
DESCRIPTION:
URL:https://standrewscs.nsw.edu.au/event/school-holidays-6/
END:VEVENT
BEGIN:VEVENT
DTSTART;VALUE=DATE:20201208
DTEND;VALUE=DATE:20201209
DTSTAMP:20260421T152754
CREATED:20200929T143720Z
LAST-MODIFIED:20200929T143747Z
UID:951-1607385600-1607471999@standrewscs.nsw.edu.au
SUMMARY:End of Term 4
DESCRIPTION:
URL:https://standrewscs.nsw.edu.au/event/end-of-term-4/
END:VEVENT
BEGIN:VEVENT
DTSTART;VALUE=DATE:20201208
DTEND;VALUE=DATE:20201209
DTSTAMP:20260421T152754
CREATED:20200629T131925Z
LAST-MODIFIED:20201105T163117Z
UID:837-1607385600-1607471999@standrewscs.nsw.edu.au
SUMMARY:Last Day of Term 4
DESCRIPTION:
URL:https://standrewscs.nsw.edu.au/event/last-day-of-term-4-presentation-night-2/
END:VEVENT
BEGIN:VEVENT
DTSTART;VALUE=DATE:20201207
DTEND;VALUE=DATE:20201208
DTSTAMP:20260421T152754
CREATED:20201025T150527Z
LAST-MODIFIED:20201025T150527Z
UID:1024-1607299200-1607385599@standrewscs.nsw.edu.au
SUMMARY:Secondary Beach Day
DESCRIPTION:
URL:https://standrewscs.nsw.edu.au/event/secondary-beach-day/
END:VEVENT
BEGIN:VEVENT
DTSTART;VALUE=DATE:20201204
DTEND;VALUE=DATE:20201205
DTSTAMP:20260421T152754
CREATED:20201025T150440Z
LAST-MODIFIED:20201025T150440Z
UID:1022-1607040000-1607126399@standrewscs.nsw.edu.au
SUMMARY:Primary Movie Rewards Day
DESCRIPTION:
URL:https://standrewscs.nsw.edu.au/event/primary-movie-rewards-day-2/
END:VEVENT
BEGIN:VEVENT
DTSTART;VALUE=DATE:20201203
DTEND;VALUE=DATE:20201204
DTSTAMP:20260421T152754
CREATED:20201025T150332Z
LAST-MODIFIED:20201025T150332Z
UID:1020-1606953600-1607039999@standrewscs.nsw.edu.au
SUMMARY:Year 6 Farewell
DESCRIPTION:
URL:https://standrewscs.nsw.edu.au/event/year-6-farewell/
END:VEVENT
BEGIN:VEVENT
DTSTART;VALUE=DATE:20201126
DTEND;VALUE=DATE:20201128
DTSTAMP:20260421T152754
CREATED:20201025T150155Z
LAST-MODIFIED:20201105T161229Z
UID:1018-1606348800-1606521599@standrewscs.nsw.edu.au
SUMMARY:P&F Christmas Stall
DESCRIPTION:
URL:https://standrewscs.nsw.edu.au/event/pf-xmas-stall/
END:VEVENT
BEGIN:VEVENT
DTSTART;TZID=UTC:20201124T080000
DTEND;TZID=UTC:20201124T170000
DTSTAMP:20260421T152754
CREATED:20201025T150047Z
LAST-MODIFIED:20201025T150047Z
UID:1016-1606204800-1606237200@standrewscs.nsw.edu.au
SUMMARY:Prep Students - STEPS Eye Testing
DESCRIPTION:
URL:https://standrewscs.nsw.edu.au/event/prep-students-steps-eye-testing/
END:VEVENT
BEGIN:VEVENT
DTSTART;VALUE=DATE:20201118
DTEND;VALUE=DATE:20201126
DTSTAMP:20260421T152754
CREATED:20200929T143629Z
LAST-MODIFIED:20200929T143629Z
UID:949-1605657600-1606348799@standrewscs.nsw.edu.au
SUMMARY:Year 7-10 Exams
DESCRIPTION:
URL:https://standrewscs.nsw.edu.au/event/year-7-10-exams/
END:VEVENT
BEGIN:VEVENT
DTSTART;TZID=UTC:20201114T183000
DTEND;TZID=UTC:20201114T213000
DTSTAMP:20260421T152754
CREATED:20200527T160624Z
LAST-MODIFIED:20200527T160624Z
UID:799-1605378600-1605389400@standrewscs.nsw.edu.au
SUMMARY:Year 12 Formal
DESCRIPTION:
URL:https://standrewscs.nsw.edu.au/event/year-12-formal/
END:VEVENT
BEGIN:VEVENT
DTSTART;VALUE=DATE:20201112
DTEND;VALUE=DATE:20201113
DTSTAMP:20260421T152754
CREATED:20201105T160947Z
LAST-MODIFIED:20201105T160947Z
UID:1031-1605139200-1605225599@standrewscs.nsw.edu.au
SUMMARY:NAIDOC Day and Australia Reads
DESCRIPTION:
URL:https://standrewscs.nsw.edu.au/event/naidoc-day-and-australia-reads/
END:VEVENT
BEGIN:VEVENT
DTSTART;VALUE=DATE:20201110
DTEND;VALUE=DATE:20201111
DTSTAMP:20260421T152754
CREATED:20201105T160818Z
LAST-MODIFIED:20201105T160818Z
UID:1029-1604966400-1605052799@standrewscs.nsw.edu.au
SUMMARY:Relay for Life - Painting the Valley Purple Fundraising Day
DESCRIPTION:
URL:https://standrewscs.nsw.edu.au/event/relay-for-life-painting-the-valley-purple-fundraising-day/
END:VEVENT
END:VCALENDAR