BEGIN:VCALENDAR
VERSION:2.0
PRODID:-//St Andrews Christian School - ECPv6.15.18//NONSGML v1.0//EN
CALSCALE:GREGORIAN
METHOD:PUBLISH
X-WR-CALNAME:St Andrews Christian School
X-ORIGINAL-URL:https://standrewscs.nsw.edu.au
X-WR-CALDESC:Events for St Andrews Christian School
REFRESH-INTERVAL;VALUE=DURATION:PT1H
X-Robots-Tag:noindex
X-PUBLISHED-TTL:PT1H
BEGIN:VTIMEZONE
TZID:UTC
BEGIN:STANDARD
TZOFFSETFROM:+0000
TZOFFSETTO:+0000
TZNAME:UTC
DTSTART:20200101T000000
END:STANDARD
END:VTIMEZONE
BEGIN:VEVENT
DTSTART;TZID=UTC:20220323T080000
DTEND;TZID=UTC:20220323T170000
DTSTAMP:20260421T102943
CREATED:20220118T151724Z
LAST-MODIFIED:20220118T151724Z
UID:1450-1648022400-1648054800@standrewscs.nsw.edu.au
SUMMARY:Year 7 Vaccinations
DESCRIPTION:
URL:https://standrewscs.nsw.edu.au/event/year-7-vaccinations/
END:VEVENT
BEGIN:VEVENT
DTSTART;TZID=UTC:20220302T080000
DTEND;TZID=UTC:20220304T170000
DTSTAMP:20260421T102943
CREATED:20220118T151549Z
LAST-MODIFIED:20220118T151549Z
UID:1448-1646208000-1646413200@standrewscs.nsw.edu.au
SUMMARY:Year 7/8 Boys Camp
DESCRIPTION:
URL:https://standrewscs.nsw.edu.au/event/year-7-8-boys-camp/
END:VEVENT
BEGIN:VEVENT
DTSTART;TZID=UTC:20220228T080000
DTEND;TZID=UTC:20220302T170000
DTSTAMP:20260421T102943
CREATED:20220117T120720Z
LAST-MODIFIED:20220117T120720Z
UID:1432-1646035200-1646240400@standrewscs.nsw.edu.au
SUMMARY:Year 7/8 Camp - Girls
DESCRIPTION:
URL:https://standrewscs.nsw.edu.au/event/year-7-8-camp-girls/
END:VEVENT
BEGIN:VEVENT
DTSTART;TZID=UTC:20220222T080000
DTEND;TZID=UTC:20220222T170000
DTSTAMP:20260421T102943
CREATED:20220117T120624Z
LAST-MODIFIED:20220117T120624Z
UID:1430-1645516800-1645549200@standrewscs.nsw.edu.au
SUMMARY:Primary Zone Swimming Carnival
DESCRIPTION:
URL:https://standrewscs.nsw.edu.au/event/primary-zone-swimming-carnival/
END:VEVENT
BEGIN:VEVENT
DTSTART;TZID=UTC:20220209T170000
DTEND;TZID=UTC:20220209T183000
DTSTAMP:20260421T102943
CREATED:20220117T131449Z
LAST-MODIFIED:20220117T131607Z
UID:1436-1644426000-1644431400@standrewscs.nsw.edu.au
SUMMARY:Meet the Staff Night
DESCRIPTION:Our annual meet the staff night will be held on Wednesday 9 February 2022 from 5pm to 6.30pm
URL:https://standrewscs.nsw.edu.au/event/meet-the-staff-night/
END:VEVENT
BEGIN:VEVENT
DTSTART;TZID=UTC:20220203T080000
DTEND;TZID=UTC:20220203T170000
DTSTAMP:20260421T102943
CREATED:20220117T120124Z
LAST-MODIFIED:20220117T120124Z
UID:1428-1643875200-1643907600@standrewscs.nsw.edu.au
SUMMARY:Swimming Carnival
DESCRIPTION:
URL:https://standrewscs.nsw.edu.au/event/swimming-carnival-2/
END:VEVENT
BEGIN:VEVENT
DTSTART;TZID=UTC:20220202T080000
DTEND;TZID=UTC:20220202T170000
DTSTAMP:20260421T102943
CREATED:20220117T120016Z
LAST-MODIFIED:20220117T120016Z
UID:1426-1643788800-1643821200@standrewscs.nsw.edu.au
SUMMARY:First Day Term 1 - Kindergarten
DESCRIPTION:
URL:https://standrewscs.nsw.edu.au/event/first-day-term-1-kindergarten/
END:VEVENT
BEGIN:VEVENT
DTSTART;TZID=UTC:20220201T080000
DTEND;TZID=UTC:20220201T170000
DTSTAMP:20260421T102943
CREATED:20220117T115732Z
LAST-MODIFIED:20220117T115827Z
UID:1423-1643702400-1643734800@standrewscs.nsw.edu.au
SUMMARY:First Day Term 1 - Prep\, Primary and Years 8-10
DESCRIPTION:
URL:https://standrewscs.nsw.edu.au/event/first-day-term-1-prep-primary-and-years-8-10/
END:VEVENT
BEGIN:VEVENT
DTSTART;TZID=UTC:20220131T080000
DTEND;TZID=UTC:20220131T170000
DTSTAMP:20260421T102943
CREATED:20220117T115514Z
LAST-MODIFIED:20220117T115940Z
UID:1421-1643616000-1643648400@standrewscs.nsw.edu.au
SUMMARY:First Day of Term 1 - Yrs 7\, 11 and 12\, Pre-Prep (half day)
DESCRIPTION:
URL:https://standrewscs.nsw.edu.au/event/first-day-of-term-1-yrs-7-11-and-12/
END:VEVENT
BEGIN:VEVENT
DTSTART;TZID=UTC:20220101T080000
DTEND;TZID=UTC:20220130T170000
DTSTAMP:20260421T102943
CREATED:20220117T115251Z
LAST-MODIFIED:20220117T115251Z
UID:1419-1641024000-1643562000@standrewscs.nsw.edu.au
SUMMARY:School Holidays
DESCRIPTION:
URL:https://standrewscs.nsw.edu.au/event/school-holidays-10/
END:VEVENT
BEGIN:VEVENT
DTSTART;VALUE=DATE:20211207
DTEND;VALUE=DATE:20211208
DTSTAMP:20260421T102943
CREATED:20201105T162951Z
LAST-MODIFIED:20201105T162951Z
UID:1055-1638835200-1638921599@standrewscs.nsw.edu.au
SUMMARY:Last Day of Term 4/Presentation Night
DESCRIPTION:
URL:https://standrewscs.nsw.edu.au/event/last-day-of-term-4-presentation-night-3/
END:VEVENT
BEGIN:VEVENT
DTSTART;VALUE=DATE:20211101
DTEND;VALUE=DATE:20211106
DTSTAMP:20260421T102943
CREATED:20210414T125519Z
LAST-MODIFIED:20210804T145805Z
UID:1224-1635724800-1636156799@standrewscs.nsw.edu.au
SUMMARY:Scholastic Book Fair
DESCRIPTION:
URL:https://standrewscs.nsw.edu.au/event/scholastic-book-fair-2/
END:VEVENT
BEGIN:VEVENT
DTSTART;VALUE=DATE:20211005
DTEND;VALUE=DATE:20211006
DTSTAMP:20260421T102943
CREATED:20201105T162859Z
LAST-MODIFIED:20201105T162859Z
UID:1053-1633392000-1633478399@standrewscs.nsw.edu.au
SUMMARY:First Day of Term 4
DESCRIPTION:
URL:https://standrewscs.nsw.edu.au/event/first-day-of-term-4-3/
END:VEVENT
BEGIN:VEVENT
DTSTART;VALUE=DATE:20210920
DTEND;VALUE=DATE:20211002
DTSTAMP:20260421T102943
CREATED:20201105T162820Z
LAST-MODIFIED:20201105T162820Z
UID:1051-1632096000-1633132799@standrewscs.nsw.edu.au
SUMMARY:School Holidays
DESCRIPTION:
URL:https://standrewscs.nsw.edu.au/event/school-holidays-9/
END:VEVENT
BEGIN:VEVENT
DTSTART;VALUE=DATE:20210917
DTEND;VALUE=DATE:20210918
DTSTAMP:20260421T102943
CREATED:20201105T162703Z
LAST-MODIFIED:20201105T162703Z
UID:1049-1631836800-1631923199@standrewscs.nsw.edu.au
SUMMARY:Last Day of Term 3
DESCRIPTION:
URL:https://standrewscs.nsw.edu.au/event/last-day-of-term-3-3/
END:VEVENT
BEGIN:VEVENT
DTSTART;VALUE=DATE:20210906
DTEND;VALUE=DATE:20210907
DTSTAMP:20260421T102943
CREATED:20210804T160708Z
LAST-MODIFIED:20210804T160708Z
UID:1284-1630886400-1630972799@standrewscs.nsw.edu.au
SUMMARY:Year 3-6 Cricket Gala Day
DESCRIPTION:
URL:https://standrewscs.nsw.edu.au/event/year-3-6-cricket-gala-day/
END:VEVENT
BEGIN:VEVENT
DTSTART;VALUE=DATE:20210902
DTEND;VALUE=DATE:20210904
DTSTAMP:20260421T102943
CREATED:20210804T160619Z
LAST-MODIFIED:20210804T160619Z
UID:1282-1630540800-1630713599@standrewscs.nsw.edu.au
SUMMARY:P&F Father's Day Stall
DESCRIPTION:
URL:https://standrewscs.nsw.edu.au/event/pf-fathers-day-stall/
END:VEVENT
BEGIN:VEVENT
DTSTART;TZID=UTC:20210825T080000
DTEND;TZID=UTC:20210831T170000
DTSTAMP:20260421T102943
CREATED:20210804T160533Z
LAST-MODIFIED:20210804T160533Z
UID:1280-1629878400-1630429200@standrewscs.nsw.edu.au
SUMMARY:Year 11 Exams
DESCRIPTION:
URL:https://standrewscs.nsw.edu.au/event/year-11-exams/
END:VEVENT
BEGIN:VEVENT
DTSTART;VALUE=DATE:20210817
DTEND;VALUE=DATE:20210820
DTSTAMP:20260421T102943
CREATED:20210804T150331Z
LAST-MODIFIED:20210804T150331Z
UID:1278-1629158400-1629417599@standrewscs.nsw.edu.au
SUMMARY:Primary Food Smart Program
DESCRIPTION:
URL:https://standrewscs.nsw.edu.au/event/primary-food-smart-program/
END:VEVENT
BEGIN:VEVENT
DTSTART;VALUE=DATE:20210816
DTEND;VALUE=DATE:20210825
DTSTAMP:20260421T102943
CREATED:20210804T150113Z
LAST-MODIFIED:20210804T150113Z
UID:1275-1629072000-1629849599@standrewscs.nsw.edu.au
SUMMARY:HSC Trial Exams
DESCRIPTION:
URL:https://standrewscs.nsw.edu.au/event/hsc-trial-exams/
END:VEVENT
BEGIN:VEVENT
DTSTART;VALUE=DATE:20210813
DTEND;VALUE=DATE:20210814
DTSTAMP:20260421T102943
CREATED:20210804T145947Z
LAST-MODIFIED:20210804T145947Z
UID:1273-1628812800-1628899199@standrewscs.nsw.edu.au
SUMMARY:Mulfti Day
DESCRIPTION:
URL:https://standrewscs.nsw.edu.au/event/mulfti-day/
END:VEVENT
BEGIN:VEVENT
DTSTART;VALUE=DATE:20210809
DTEND;VALUE=DATE:20210810
DTSTAMP:20260421T102943
CREATED:20210414T125604Z
LAST-MODIFIED:20210414T125604Z
UID:1226-1628467200-1628553599@standrewscs.nsw.edu.au
SUMMARY:Indonesian Day
DESCRIPTION:
URL:https://standrewscs.nsw.edu.au/event/indonesian-day/
END:VEVENT
BEGIN:VEVENT
DTSTART;VALUE=DATE:20210726
DTEND;VALUE=DATE:20210727
DTSTAMP:20260421T102943
CREATED:20210414T125420Z
LAST-MODIFIED:20210414T125420Z
UID:1222-1627257600-1627343999@standrewscs.nsw.edu.au
SUMMARY:School Photos
DESCRIPTION:
URL:https://standrewscs.nsw.edu.au/event/school-photos/
END:VEVENT
BEGIN:VEVENT
DTSTART;VALUE=DATE:20210720
DTEND;VALUE=DATE:20210721
DTSTAMP:20260421T102943
CREATED:20210505T175514Z
LAST-MODIFIED:20210505T175514Z
UID:1249-1626739200-1626825599@standrewscs.nsw.edu.au
SUMMARY:Zone Athletics Carnival - Coffs Harbour
DESCRIPTION:
URL:https://standrewscs.nsw.edu.au/event/zone-athletics-carnival-coffs-harbour/
END:VEVENT
BEGIN:VEVENT
DTSTART;VALUE=DATE:20210719
DTEND;VALUE=DATE:20210720
DTSTAMP:20260421T102943
CREATED:20201105T162614Z
LAST-MODIFIED:20201105T162614Z
UID:1047-1626652800-1626739199@standrewscs.nsw.edu.au
SUMMARY:First day of Term 3
DESCRIPTION:
URL:https://standrewscs.nsw.edu.au/event/first-day-of-term-3-2/
END:VEVENT
BEGIN:VEVENT
DTSTART;TZID=UTC:20210628T080000
DTEND;TZID=UTC:20210716T170000
DTSTAMP:20260421T102943
CREATED:20201105T162530Z
LAST-MODIFIED:20201105T162530Z
UID:1045-1624867200-1626454800@standrewscs.nsw.edu.au
SUMMARY:School Holidays
DESCRIPTION:
URL:https://standrewscs.nsw.edu.au/event/school-holidays-8/
END:VEVENT
BEGIN:VEVENT
DTSTART;VALUE=DATE:20210625
DTEND;VALUE=DATE:20210626
DTSTAMP:20260421T102943
CREATED:20210414T125232Z
LAST-MODIFIED:20210414T125232Z
UID:1220-1624579200-1624665599@standrewscs.nsw.edu.au
SUMMARY:NAIDOC Day
DESCRIPTION:
URL:https://standrewscs.nsw.edu.au/event/naidoc-day/
END:VEVENT
BEGIN:VEVENT
DTSTART;VALUE=DATE:20210625
DTEND;VALUE=DATE:20210626
DTSTAMP:20260421T102943
CREATED:20201105T162042Z
LAST-MODIFIED:20201105T162042Z
UID:1042-1624579200-1624665599@standrewscs.nsw.edu.au
SUMMARY:Last day of Term 2
DESCRIPTION:
URL:https://standrewscs.nsw.edu.au/event/last-day-of-term-2-2/
END:VEVENT
BEGIN:VEVENT
DTSTART;VALUE=DATE:20210614
DTEND;VALUE=DATE:20210615
DTSTAMP:20260421T102943
CREATED:20210414T125057Z
LAST-MODIFIED:20210414T125057Z
UID:1218-1623628800-1623715199@standrewscs.nsw.edu.au
SUMMARY:Queens Birthday holiday
DESCRIPTION:
URL:https://standrewscs.nsw.edu.au/event/queens-birthday-holiday-2/
END:VEVENT
BEGIN:VEVENT
DTSTART;VALUE=DATE:20210609
DTEND;VALUE=DATE:20210610
DTSTAMP:20260421T102943
CREATED:20210505T175414Z
LAST-MODIFIED:20210505T175414Z
UID:1247-1623196800-1623283199@standrewscs.nsw.edu.au
SUMMARY:School Athletics Carnival
DESCRIPTION:
URL:https://standrewscs.nsw.edu.au/event/school-athletics-carnival/
END:VEVENT
END:VCALENDAR