BEGIN:VCALENDAR
VERSION:2.0
PRODID:-//St Andrews Christian School - ECPv6.15.18//NONSGML v1.0//EN
CALSCALE:GREGORIAN
METHOD:PUBLISH
X-ORIGINAL-URL:https://standrewscs.nsw.edu.au
X-WR-CALDESC:Events for St Andrews Christian School
REFRESH-INTERVAL;VALUE=DURATION:PT1H
X-Robots-Tag:noindex
X-PUBLISHED-TTL:PT1H
BEGIN:VTIMEZONE
TZID:Australia/Sydney
BEGIN:STANDARD
TZOFFSETFROM:+1100
TZOFFSETTO:+1000
TZNAME:AEST
DTSTART:20230401T160000
END:STANDARD
BEGIN:DAYLIGHT
TZOFFSETFROM:+1000
TZOFFSETTO:+1100
TZNAME:AEDT
DTSTART:20230930T160000
END:DAYLIGHT
BEGIN:STANDARD
TZOFFSETFROM:+1100
TZOFFSETTO:+1000
TZNAME:AEST
DTSTART:20240406T160000
END:STANDARD
BEGIN:DAYLIGHT
TZOFFSETFROM:+1000
TZOFFSETTO:+1100
TZNAME:AEDT
DTSTART:20241005T160000
END:DAYLIGHT
BEGIN:STANDARD
TZOFFSETFROM:+1100
TZOFFSETTO:+1000
TZNAME:AEST
DTSTART:20250405T160000
END:STANDARD
BEGIN:DAYLIGHT
TZOFFSETFROM:+1000
TZOFFSETTO:+1100
TZNAME:AEDT
DTSTART:20251004T160000
END:DAYLIGHT
BEGIN:STANDARD
TZOFFSETFROM:+1100
TZOFFSETTO:+1000
TZNAME:AEST
DTSTART:20260404T160000
END:STANDARD
BEGIN:DAYLIGHT
TZOFFSETFROM:+1000
TZOFFSETTO:+1100
TZNAME:AEDT
DTSTART:20261003T160000
END:DAYLIGHT
END:VTIMEZONE
BEGIN:VEVENT
DTSTART;VALUE=DATE:20240826
DTEND;VALUE=DATE:20240904
DTSTAMP:20260420T194419
CREATED:20240218T223715Z
LAST-MODIFIED:20240218T223715Z
UID:2594-1724630400-1725407999@standrewscs.nsw.edu.au
SUMMARY:HSC Trial Exams
DESCRIPTION:
URL:https://standrewscs.nsw.edu.au/event/hsc-trial-exams-3/
END:VEVENT
BEGIN:VEVENT
DTSTART;TZID=Australia/Sydney:20240902T080000
DTEND;TZID=Australia/Sydney:20240906T170000
DTSTAMP:20260420T194419
CREATED:20240218T223634Z
LAST-MODIFIED:20240815T004740Z
UID:2592-1725264000-1725642000@standrewscs.nsw.edu.au
SUMMARY:Book Week
DESCRIPTION:
URL:https://standrewscs.nsw.edu.au/event/book-week/
END:VEVENT
BEGIN:VEVENT
DTSTART;VALUE=DATE:20240903
DTEND;VALUE=DATE:20240913
DTSTAMP:20260420T194419
CREATED:20240218T223756Z
LAST-MODIFIED:20240218T223756Z
UID:2596-1725321600-1726185599@standrewscs.nsw.edu.au
SUMMARY:Year 11 Exams
DESCRIPTION:
URL:https://standrewscs.nsw.edu.au/event/year-11-exams-2/
END:VEVENT
BEGIN:VEVENT
DTSTART;TZID=Australia/Sydney:20240904T090000
DTEND;TZID=Australia/Sydney:20240904T110000
DTSTAMP:20260420T194419
CREATED:20240815T005130Z
LAST-MODIFIED:20240815T005130Z
UID:2776-1725440400-1725447600@standrewscs.nsw.edu.au
SUMMARY:Book Character Parade
DESCRIPTION:
URL:https://standrewscs.nsw.edu.au/event/book-character-parade/
END:VEVENT
BEGIN:VEVENT
DTSTART;VALUE=DATE:20240912
DTEND;VALUE=DATE:20240913
DTSTAMP:20260420T194419
CREATED:20240218T224214Z
LAST-MODIFIED:20240218T224214Z
UID:2604-1726099200-1726185599@standrewscs.nsw.edu.au
SUMMARY:RUOK Day
DESCRIPTION:
URL:https://standrewscs.nsw.edu.au/event/ruok-day/
END:VEVENT
BEGIN:VEVENT
DTSTART;VALUE=DATE:20240913
DTEND;VALUE=DATE:20240914
DTSTAMP:20260420T194419
CREATED:20240218T224251Z
LAST-MODIFIED:20240218T224251Z
UID:2606-1726185600-1726271999@standrewscs.nsw.edu.au
SUMMARY:Zone NRL and Netball - Ballina
DESCRIPTION:
URL:https://standrewscs.nsw.edu.au/event/zone-nrl-and-netball-ballina/
END:VEVENT
BEGIN:VEVENT
DTSTART;TZID=Australia/Sydney:20240919T080000
DTEND;TZID=Australia/Sydney:20240919T170000
DTSTAMP:20260420T194419
CREATED:20240218T223823Z
LAST-MODIFIED:20240815T004901Z
UID:2598-1726732800-1726765200@standrewscs.nsw.edu.au
SUMMARY:Grandparents Day
DESCRIPTION:
URL:https://standrewscs.nsw.edu.au/event/grandparents-day/
END:VEVENT
BEGIN:VEVENT
DTSTART;VALUE=DATE:20240923
DTEND;VALUE=DATE:20240927
DTSTAMP:20260420T194419
CREATED:20240218T224333Z
LAST-MODIFIED:20240218T224333Z
UID:2608-1727049600-1727395199@standrewscs.nsw.edu.au
SUMMARY:Year 11 Work Experience
DESCRIPTION:
URL:https://standrewscs.nsw.edu.au/event/year-11-work-experience-2/
END:VEVENT
BEGIN:VEVENT
DTSTART;TZID=Australia/Sydney:20240925T080000
DTEND;TZID=Australia/Sydney:20240925T170000
DTSTAMP:20260420T194419
CREATED:20240815T005755Z
LAST-MODIFIED:20240815T005755Z
UID:2778-1727251200-1727283600@standrewscs.nsw.edu.au
SUMMARY:Kindergarten Orientation
DESCRIPTION:
URL:https://standrewscs.nsw.edu.au/event/kindergarten-orientation/
END:VEVENT
BEGIN:VEVENT
DTSTART;VALUE=DATE:20240927
DTEND;VALUE=DATE:20240928
DTSTAMP:20260420T194419
CREATED:20240218T225216Z
LAST-MODIFIED:20240218T225216Z
UID:2634-1727395200-1727481599@standrewscs.nsw.edu.au
SUMMARY:Last Day Term 3
DESCRIPTION:
URL:https://standrewscs.nsw.edu.au/event/last-day-term-3/
END:VEVENT
BEGIN:VEVENT
DTSTART;VALUE=DATE:20240928
DTEND;VALUE=DATE:20241014
DTSTAMP:20260420T194419
CREATED:20240218T224414Z
LAST-MODIFIED:20240218T224414Z
UID:2610-1727481600-1728863999@standrewscs.nsw.edu.au
SUMMARY:School Holidays
DESCRIPTION:
URL:https://standrewscs.nsw.edu.au/event/school-holidays-17/
END:VEVENT
BEGIN:VEVENT
DTSTART;VALUE=DATE:20241014
DTEND;VALUE=DATE:20241015
DTSTAMP:20260420T194419
CREATED:20240218T225119Z
LAST-MODIFIED:20240218T225119Z
UID:2632-1728864000-1728950399@standrewscs.nsw.edu.au
SUMMARY:First Day Term 4
DESCRIPTION:
URL:https://standrewscs.nsw.edu.au/event/first-day-term-4/
END:VEVENT
BEGIN:VEVENT
DTSTART;VALUE=DATE:20241024
DTEND;VALUE=DATE:20241025
DTSTAMP:20260420T194419
CREATED:20240218T224451Z
LAST-MODIFIED:20240218T224451Z
UID:2612-1729728000-1729814399@standrewscs.nsw.edu.au
SUMMARY:NC Futsal Gala Day
DESCRIPTION:
URL:https://standrewscs.nsw.edu.au/event/nc-futsal-gala-day/
END:VEVENT
BEGIN:VEVENT
DTSTART;VALUE=DATE:20241026
DTEND;VALUE=DATE:20241027
DTSTAMP:20260420T194419
CREATED:20240218T224519Z
LAST-MODIFIED:20240218T224519Z
UID:2614-1729900800-1729987199@standrewscs.nsw.edu.au
SUMMARY:Jacaranda Fair
DESCRIPTION:
URL:https://standrewscs.nsw.edu.au/event/jacaranda-fair-3/
END:VEVENT
BEGIN:VEVENT
DTSTART;VALUE=DATE:20241028
DTEND;VALUE=DATE:20241109
DTSTAMP:20260420T194419
CREATED:20240218T224600Z
LAST-MODIFIED:20240218T224600Z
UID:2616-1730073600-1731110399@standrewscs.nsw.edu.au
SUMMARY:Year 9-10 Exams
DESCRIPTION:
URL:https://standrewscs.nsw.edu.au/event/year-9-10-exams/
END:VEVENT
BEGIN:VEVENT
DTSTART;TZID=Australia/Sydney:20241029T080000
DTEND;TZID=Australia/Sydney:20241029T170000
DTSTAMP:20260420T194419
CREATED:20240815T005831Z
LAST-MODIFIED:20240815T005831Z
UID:2780-1730188800-1730221200@standrewscs.nsw.edu.au
SUMMARY:Kindergarten Orientation
DESCRIPTION:
URL:https://standrewscs.nsw.edu.au/event/kindergarten-orientation-2/
END:VEVENT
BEGIN:VEVENT
DTSTART;TZID=Australia/Sydney:20241029T080000
DTEND;TZID=Australia/Sydney:20241029T170000
DTSTAMP:20260420T194419
CREATED:20240815T005855Z
LAST-MODIFIED:20240815T005855Z
UID:2782-1730188800-1730221200@standrewscs.nsw.edu.au
SUMMARY:Prep Orientation
DESCRIPTION:
URL:https://standrewscs.nsw.edu.au/event/prep-orientation/
END:VEVENT
BEGIN:VEVENT
DTSTART;TZID=Australia/Sydney:20241029T080000
DTEND;TZID=Australia/Sydney:20241029T170000
DTSTAMP:20260420T194419
CREATED:20240815T005925Z
LAST-MODIFIED:20240815T005925Z
UID:2784-1730188800-1730221200@standrewscs.nsw.edu.au
SUMMARY:Year 7 Orientation
DESCRIPTION:
URL:https://standrewscs.nsw.edu.au/event/year-7-orientation/
END:VEVENT
BEGIN:VEVENT
DTSTART;VALUE=DATE:20241111
DTEND;VALUE=DATE:20241112
DTSTAMP:20260420T194419
CREATED:20240218T224642Z
LAST-MODIFIED:20240218T224642Z
UID:2618-1731283200-1731369599@standrewscs.nsw.edu.au
SUMMARY:Remembrance Day
DESCRIPTION:
URL:https://standrewscs.nsw.edu.au/event/remembrance-day/
END:VEVENT
BEGIN:VEVENT
DTSTART;VALUE=DATE:20241112
DTEND;VALUE=DATE:20241123
DTSTAMP:20260420T194419
CREATED:20240218T224726Z
LAST-MODIFIED:20240218T224726Z
UID:2620-1731369600-1732319999@standrewscs.nsw.edu.au
SUMMARY:Year 7-8 Exams
DESCRIPTION:
URL:https://standrewscs.nsw.edu.au/event/year-7-8-exams/
END:VEVENT
BEGIN:VEVENT
DTSTART;TZID=Australia/Sydney:20241204T090000
DTEND;TZID=Australia/Sydney:20241204T110000
DTSTAMP:20260420T194419
CREATED:20240218T224817Z
LAST-MODIFIED:20240218T224817Z
UID:2622-1733302800-1733310000@standrewscs.nsw.edu.au
SUMMARY:Gold Awards Morning Tea
DESCRIPTION:
URL:https://standrewscs.nsw.edu.au/event/gold-awards-morning-tea/
END:VEVENT
BEGIN:VEVENT
DTSTART;TZID=Australia/Sydney:20241204T170000
DTEND;TZID=Australia/Sydney:20241204T190000
DTSTAMP:20260420T194419
CREATED:20240218T224903Z
LAST-MODIFIED:20240218T224903Z
UID:2624-1733331600-1733338800@standrewscs.nsw.edu.au
SUMMARY:Year 6 Graduation
DESCRIPTION:
URL:https://standrewscs.nsw.edu.au/event/year-6-graduation/
END:VEVENT
BEGIN:VEVENT
DTSTART;VALUE=DATE:20241210
DTEND;VALUE=DATE:20241211
DTSTAMP:20260420T194419
CREATED:20240218T224936Z
LAST-MODIFIED:20240218T224936Z
UID:2626-1733788800-1733875199@standrewscs.nsw.edu.au
SUMMARY:Last Day Term 4
DESCRIPTION:
URL:https://standrewscs.nsw.edu.au/event/last-day-term-4/
END:VEVENT
BEGIN:VEVENT
DTSTART;TZID=Australia/Sydney:20241210T170000
DTEND;TZID=Australia/Sydney:20241210T193000
DTSTAMP:20260420T194419
CREATED:20240218T225017Z
LAST-MODIFIED:20240218T225017Z
UID:2628-1733850000-1733859000@standrewscs.nsw.edu.au
SUMMARY:Presentation Night
DESCRIPTION:
URL:https://standrewscs.nsw.edu.au/event/presentation-night/
END:VEVENT
BEGIN:VEVENT
DTSTART;TZID=Australia/Sydney:20241211T080000
DTEND;TZID=Australia/Sydney:20241231T170000
DTSTAMP:20260420T194419
CREATED:20240218T225044Z
LAST-MODIFIED:20240218T225044Z
UID:2630-1733904000-1735664400@standrewscs.nsw.edu.au
SUMMARY:School Holidays
DESCRIPTION:
URL:https://standrewscs.nsw.edu.au/event/school-holidays-18/
END:VEVENT
BEGIN:VEVENT
DTSTART;TZID=Australia/Sydney:20250101T080000
DTEND;TZID=Australia/Sydney:20250202T170000
DTSTAMP:20260420T194419
CREATED:20241213T004440Z
LAST-MODIFIED:20241213T004440Z
UID:2918-1735718400-1738515600@standrewscs.nsw.edu.au
SUMMARY:School Holidays
DESCRIPTION:
URL:https://standrewscs.nsw.edu.au/event/school-holidays-19/
END:VEVENT
BEGIN:VEVENT
DTSTART;VALUE=DATE:20250203
DTEND;VALUE=DATE:20250204
DTSTAMP:20260420T194419
CREATED:20241213T004351Z
LAST-MODIFIED:20241213T004351Z
UID:2916-1738540800-1738627199@standrewscs.nsw.edu.au
SUMMARY:Years 7/11/12 First Day Term 1
DESCRIPTION:
URL:https://standrewscs.nsw.edu.au/event/years-7-11-12-first-day-term-1/
END:VEVENT
BEGIN:VEVENT
DTSTART;VALUE=DATE:20250204
DTEND;VALUE=DATE:20250205
DTSTAMP:20260420T194419
CREATED:20241213T004904Z
LAST-MODIFIED:20241213T004904Z
UID:2920-1738627200-1738713599@standrewscs.nsw.edu.au
SUMMARY:Years 1-6 and 8-10 First Day Term 1
DESCRIPTION:
URL:https://standrewscs.nsw.edu.au/event/years-1-6-and-8-10-first-day-term-1/
END:VEVENT
BEGIN:VEVENT
DTSTART;VALUE=DATE:20250205
DTEND;VALUE=DATE:20250206
DTSTAMP:20260420T194419
CREATED:20241213T005025Z
LAST-MODIFIED:20241213T005025Z
UID:2922-1738713600-1738799999@standrewscs.nsw.edu.au
SUMMARY:Prep and Kindergarten First Day Term 1
DESCRIPTION:
URL:https://standrewscs.nsw.edu.au/event/prep-and-kindergarten-first-day-term-1/
END:VEVENT
BEGIN:VEVENT
DTSTART;VALUE=DATE:20250207
DTEND;VALUE=DATE:20250208
DTSTAMP:20260420T194419
CREATED:20241213T005056Z
LAST-MODIFIED:20241213T005056Z
UID:2924-1738886400-1738972799@standrewscs.nsw.edu.au
SUMMARY:Swimming Carnival Years 3-12
DESCRIPTION:
URL:https://standrewscs.nsw.edu.au/event/swimming-carnival-years-3-12/
END:VEVENT
END:VCALENDAR